Workbook
Name _ftn1: '5. Finding'!$D$11
Name การทดสอบการเจาะระบบ: '6. Result'!$C$30

Sheet 1. Basic info
J1: Version: | K1: รอบปี 2569
B2: เอกสารแนบ คำอธิบายประกอบการจัดทำแบบรายงานผลการตรวจสอบด้านเทคโนโลยีสารสนเทศและ แผนการปรับปรุงแก้ไขข้อบกพร่อง ("แบบรายงานผล IT audit") | J2: ห้ามใช้ไฟล์นี้จัดส่งสำนักงาน
B3: ไม่สามารถใช้ไฟล์นี้เป็นแบบรายงานผล IT audit เพื่อจัดส่งสำนักงาน ก.ล.ต. ตามประกาศที่ สธ. 38/2565 (ที่แก้ไขเพิ่มเติมโดยประกาศที่ สธ. 33/2567) ได้ การจัดส่งสำนักงานให้ใช้ไฟล์ แบบรายงานผลการตรวจสอบด้านเทคโนโลยีสารสนเทศและแผนการปรับปรุงแก้ไขข้อบกพร่อง ("แบบรายงานผล IT audit") เท่านั้น
A5: ชื่อบริษัท (นิติบุคคล) | E5: *สามารถกรอกชื่อบริษัทบางส่วน, กด enter และกด dropdown icon เพื่อค้นหาจาก List รายชื่อได้ กรณีไม่พบในรายชื่อ กรุณากรอกชื่อบริษัท กรณีที่ไม่สามารถใช้ function search box ของ Excel ได้ (เช่น ใช้ Excel Version 2013, 2010 หรือต่ำกว่า) สามารถกรอกชื่อบริษัทลงในช่องได้ โดยไม่ต้องค้นหาจาก List รายชื่อ
A7: เลขทะเบียนนิติบุคคล | E7: *โปรดระบุเลขประจำตัวผู้เสียภาษี 13 หลัก เพื่อการ mapping ข้อมูล
A9: ชื่อผู้ประสานงานของบริษัท | E9: เบอร์โทรศัพท์ | G9: อีเมล
A11: 1. ข้อมูลพื้นฐานเกี่ยวกับการตรวจสอบ
A13: ข้อมูลการตรวจสอบ | H13: การรายงานผลการตรวจสอบและแผนการปรับปรุงแก้ไข
A14: บริษัทได้จัดให้มีการตรวจสอบด้านเทคโนโลยีสารสนเทศที่ครอบคลุมการควบคุมและกิจกรรมด้าน IT ของบริษัท โดยมีรายละเอียดการดำเนินการตรวจสอบ ดังนี้ | H14: ผลการตรวจสอบพร้อมกับแผนการปรับปรุงแก้ไขข้อตรวจพบได้นำเสนอต่อคณะกรรมการที่เกี่ยวข้องแล้ว เมื่อวันที่
A15: ผู้ดำเนินงานตรวจสอบ
A16: ผู้ดำเนินการตรวจสอบ | E16: *ผู้ตรวจสอบจากบริษัทในเครือ/กลุ่ม ให้นับเป็นผู้เชี่ยวชาญภายนอก | H16: คณะกรรมการของบริษัท | J16: (วัน/เดือน/ปี ค.ศ. เช่น 30/5/2025)
A18: *กรณีใช้บริการผู้เชี่ยวชาญภายนอก โปรดกรอกชื่อบริษัทของผู้ตรวจสอบ | H18: คณะกรรมการตรวจสอบ (Audit Committee) | J18: (วัน/เดือน/ปี ค.ศ. เช่น 20/5/2025) | N18: =IF(AND(I16="", I18=""), "", MAX(I16, I18))
H19: *หากไม่มีข้อใด ให้เว้นว่าง (มีเพียงการรายงานคณะกรรมการของบริษัท หรือมีเพียงการรายงานคณะกรรมการตรวจสอบ)
H21: =IF(E23>N18,"กรณีวันเสนอต่อคณะกรรมการของบริษัท หรือ Audit Committee เกิดขึ้นก่อนวันสุดท้ายของการตรวจสอบ โปรดระบุสาเหตุ", "")
A22: วันที่ดำเนินการตรวจสอบ
B23: ระหว่างวันที่ | D23: ถึงวันที่ | F23: (วัน/เดือน/ปี ค.ศ. เช่น 30/4/2025)
C24: dd/mm/yyyy
A26: ระดับความเสี่ยง ที่ได้จากการประเมินแบบ RLA ปี 2567 (รอบการประเมิน RLA ที่มีกำหนดการนำส่งภายใน 31 ธันวาคม 2567) | C26: ผู้ประกอบธุรกิจขนาดเล็ก** | F26: ** หมายเหตุ : รอบปีการตรวจสอบ ค.ศ. 2026 (พ.ศ. 2569) สำนักงานมิได้กำหนดให้ผู้ประกอบธุรกิจที่มีผลการประเมินแบบ RLA ปี 2567 เป็น ผู้ประกอบธุรกิจขนาดเล็ก หรือ ผู้ประกอบธุรกิจที่มีความเสี่ยงระดับต่ำ ต้องจัดให้มีการตรวจสอบปี 2568 • เว้นแต่ ในปี 2568 ผู้ประกอบธุรกิจเกิดเหตุการณ์ด้านความมั่นคงปลอดภัยของระบบ IT อย่างมีนัยสำคัญ (Major IT Security Incident) ผู้ประกอบธุรกิจขนาดเล็ก และ ผู้ประกอบธุรกิจที่มีความเสี่ยงระดับต่ำ ต้องจัดให้มีการดำเนินการตรวจสอบด้าน IT แบบเต็มรูปแบบ (Full Scope) ภายในปี 2568 ด้วย (รายละเอียดเพิ่มเติม โปรดอ้างอิงข้อกำหนดในภาคผนวก 4 แนบท้ายประกาศที่ สธ. 38/2565 ที่แก้ไขเพิ่มเติมโดยประกาศที่ สธ. 33/2567) • ผู้ประกอบธุรกิจสินทรัพย์ดิจิทัล แม้จะประเมินผล RLA ได้เป็นผู้ประกอบธุรกิจขนาดเล็ก (เช่น ผู้ประกอบธุรกิจที่ปรึกษาโทเคนดิจิทัล/ที่ปรึกษาคริปโทเคอร์เรนซี เป็นต้น) จะยังต้องจัดให้มีการตรวจสอบด้าน IT อย่างน้อยปีละ 1 ครั้ง เนื่องจากประกาศ กธ. 16/2561 ได้กำหนดให้ผู้ประกอบธุรกิจสินทรัพย์ดิจิทัลจัดให้มีการตรวจสอบอย่างน้อยปีละ 1 ครั้ง นอกจากนี้ ต้องนำส่งตามเงื่อนไขของประกาศ กธ. 19/2561 ด้วย (รายงานผลต่อสำนักงาน ก.ล.ต. ภายใน 30 วันนับจากวันที่ได้รับผลการทดสอบอย่างเป็นทางการ แต่ไม่เกิน 90 วันนับจากวันที่สิ้นสุดกระบวนการทดสอบ) • ผลการประเมิน RLA รอบปี พ.ศ. 2567 สำหรับใช้เพื่อกำหนด scope การตรวจสอบรอบปี 2568 เท่านั้น กรณีการตรวจสอบรอบปี 2569 โปรดอ้างอิงจากผลการประเมิน RLA รอบใหม่
A28: รายชื่อผู้ตรวจสอบ
A29: ลำดับที่ | B29: ชื่อ สกุล (ภาษาอังกฤษ) | D29: ตำแหน่ง | F29: CISA Certification Number (ถ้ามี) | G29: CISM Certification Number (ถ้ามี) | H29: CISSP Certification Number (ถ้ามี) | I29: ISO/IEC 27001 Lead Auditor Certification Number (ถ้ามี) | J29: (Optional) Certificate อื่นๆ ที่เกี่ยวกับงาน IT Audit | K29: อีเมล | L29: เบอร์โทรศัพท์
A30: ตัวอย่าง | B30: Somjai Rakdee | D30: หัวหน้าทีมตรวจสอบ | F30: 12345678 | G30: - | H30: - | I30: - | J30: - | K30: somjai_rakdee@test.com | L30: 02-1111111
A31: ตัวอย่าง | B31: Somchai Jaidee | D31: ผู้ตรวจสอบ | F31: - | G31: 88888888 | H31: - | I31: - | J31: - | K31: somchai_jaidee@test.com | L31: 02-2222222
A32: 1
A33: 2
A34: 3
A35: 4
A36: 5
A37: 6
A38: 7
A39: 8
A40: 9
A41: 10
A42: 11
A43: 12
... A51: 20

Sheet 2. Systems
A1: 2. ระบบ IT ที่ใช้ในการประกอบธุรกิจ
A2: ***หมายเหตุ: หากไม่มีข้อใด สามารถเว้นว่างได้
B3: หากไม่พบชื่อใน drop down list ให้พิมพ์ชื่อลงในช่องอื่น ๆ
B4: สำนักงานจะนำข้อมูลเพื่อใช้ประกอบการส่งเสริม และยกระดับความพร้อมรับมือภัยคุกคามทางไซเบอร์ในภาคตลาดทุน เช่น การจัดทำข้อมูลแจ้งเตือน Cyber Alert ในอุปกรณ์/product ที่ผู้ประกอบธุรกิจใช้งานเป็นส่วนใหญ่ เป็นต้น
A6: 2.1 Cloud Service Provider (SaaS, PaaS, Iaas) / ผู้ให้บริการ Infrastucture (เช่น Data center) | D6: *ให้ระบุสูงสุด 3 ราย
A7: ลำดับที่ | B7: Vendor / Product
A8: ตัวอย่าง | B8: Amazon Web Services (AWS) | C8: อื่น ๆ (หากไม่มีใน dropdown list)
A9: 1
A10: 2
A11: 3
A13: 2.2 Operating System | D13: *ให้ระบุสูงสุด 3 products
A14: ลำดับที่ | B14: Vendor / Product
A15: ตัวอย่าง | B15: Red Hat Enterprise Linux (RHEL) | C15: อื่น ๆ (หากไม่มีใน dropdown list)
A16: 1
A17: 2
A18: 3
A20: 2.3 Database | D20: *ให้ระบุสูงสุด 3 products
A21: ลำดับที่ | B21: Vendor / Product
A22: ตัวอย่าง | B22: MySQL | C22: อื่น ๆ (หากไม่มีใน dropdown list)
A23: 1
A24: 2
A25: 3
A27: 2.4 Firewall | D27: *ให้ระบุสูงสุด 3 products
A28: ลำดับที่ | B28: Vendor / Product
A29: ตัวอย่าง | B29: Palo Alto | C29: อื่น ๆ (หากไม่มีใน dropdown list)
A30: 1
A31: 2
A32: 3
A34: 2.5 Switch | D34: *ให้ระบุสูงสุด 3 products
A35: โปรดระบุข้อมูล : อุปกรณ์ network device (Switch) ที่องค์กรของผู้ประกอบธุรกิจได้ใช้งานสำหรับเครือข่ายสำคัญสำหรับการประกอบธุรกิจ เช่น Core Network, Backbone Network, Production Network เป็นต้น โดยระบุอุปกรณ์ที่มีการใช้งานสูงสุด 3 products
A36: ลำดับที่ | B36: Vendor / Product
A37: ตัวอย่าง | B37: D-Link | C37: อื่น ๆ (หากไม่มีใน dropdown list)
A38: 1
A39: 2
A40: 3
A42: 2.6 Router / Gateway | D42: *ให้ระบุสูงสุด 3 products
A43: โปรดระบุข้อมูล : อุปกรณ์ network device (Router / Gateway) ที่องค์กรของผู้ประกอบธุรกิจได้ใช้งานสำหรับเครือข่ายสำคัญสำหรับการประกอบธุรกิจ เช่น Core Network, Backbone Network, Production Network เป็นต้น โดยระบุอุปกรณ์ที่มีการใช้งานสูงสุด 3 products
A44: ลำดับที่ | B44: Vendor / Product
A45: ตัวอย่าง | B45: Cisco | C45: อื่น ๆ (หากไม่มีใน dropdown list)
A46: 1
...

Sheet 3. Scope
A1: 3. ระบบ IT ที่อยู่ในขอบเขตของการตรวจสอบ
A2: ตรวจสอบรายชื่อระบบ IT ที่มีนัยสำคัญที่ควรพิจารณากำหนดเป็นขอบเขตของการตรวจสอบ ตาม Sheet "3.1 Critical Systems"
A3: ลำดับที่ | B3: ลักษณะระบบงาน | C3: ประเภทระบบงาน (สามารถตรวจสอบข้อมูลได้ที่ Sheet 3.1 Critical Systems) | D3: ประเภทระบบอื่น ๆ ที่ไม่ได้อยู่ใน drop down list *โปรดพิมพ์ชื่อประเภทระบบลงในช่อง | E3: ชื่อผลิตภัณฑ์ | F3: รูปแบบการใช้งานระบบ (deployment model) | G3: ฟังก์ชันงาน
A4: ตัวอย่าง | B4: Of-the-shelf system (ระบบสำเร็จรูป) | C4: ระบบรับส่งคำสั่งซื้อขาย (Front Office : OMS) | E4: เช่น Horizon, iFIS, Flextrade, HiTrade, … | F4: On-Premises | G4: ระบบสำหรับรับส่งคำสั่งซื้อขายหลักทรัพย์จากลูกค้าไปยังศูนย์ซื้อขายหลักทรัพย์ (Trading Venue) และตัวแทนซื้อขายในต่างประเทศ (oversea brokers & dealers)
A5: ตัวอย่าง | B5: Customized/In-house developed system (ระบบพัฒนาขึ้นเอง) | C5: ระบบ Back Office | E5: AAA | F5: On-Premises | G5: ระบบที่เกี่ยวข้องกับการจัดการข้อมูลลูกค้า ข้อมูลการซื้อขาย การชำระราคาและส่งมอบหลักทรัพย์ระหว่างบริษัท ธุรกรรมกับลูกค้าและบุคคลอื่น
A6: ตัวอย่าง | B6: Of-the-shelf system (ระบบสำเร็จรูป) | C6: ระบบเก็บรักษาสินทรัพย์ดิจิทัลของลูกค้า | E6: เช่น Fireblocks, Coinbase Custody, Bitgo, … | F6: On-Cloud | G6: ระบบสำหรับดูแลรักษาสินทรัพย์ดิจิทัลของลูกค้า ในส่วนของ Hot Wallet
A7: ตัวอย่าง | B7: Customized/In-house developed system (ระบบพัฒนาขึ้นเอง) | C7: ระบบอื่น ๆ | D7: เว็บไซต์ | E7: www.ตัวอย่างเว็บไซต์.co.th | F7: Hybrid | G7: หน้าเว็บไซต์ของบริษัท เพื่อเป็นช่องทางให้ลูกค้าเข้าทำรายการ
A8: 1
A9: 2
A10: 3
A11: 4
A12: 5
A13: 6
A14: 7
A15: 8
A16: 9
A17: 10
A18: 11
A19: 12
... A37: 30

Sheet 3.1 Critical Systems
A1: ประเภทผู้ประกอบธุรกิจ | B1: ระบบ IT ที่มีนัยสำคัญที่ควรอยู่ในขอบเขตการตรวจสอบ | C1: คำอธิบาย
A2: [บล.] นายหน้าซื้อขาย / ค้า /จัดจำหน่ายหลักทรัพย์ | B2: ระบบรับส่งคำสั่งซื้อขาย (Front Office : OMS) | C2: ระบบสำหรับรับส่งคำสั่งซื้อขายหลักทรัพย์จากลูกค้าไปยังศูนย์ซื้อขายหลักทรัพย์ (Trading Venue) และตัวแทนซื้อขายในต่างประเทศ (oversea brokers & dealers)
A3: [บล.] นายหน้าซื้อขาย / ค้า /จัดจำหน่ายหลักทรัพย์ | B3: ระบบ Back Office | C3: ระบบที่เกี่ยวข้องกับการจัดการข้อมูลลูกค้า ข้อมูลการซื้อขาย การชำระราคาและส่งมอบหลักทรัพย์ระหว่างบริษัท ธุรกรรมกับลูกค้าและบุคคลอื่น (เช่น TCH และ TSD) รวมถึงการดูแลทรัพย์สินของลูกค้า เช่น การฝากถอนเงิน และการวางหลักประกันของลูกค้า เป็นต้น
A4: [บล.] ตัวแทนซื้อขายสัญญาซื้อขายล่วงหน้า | B4: ระบบรับส่งคำสั่งซื้อขาย (Front Office : OMS) | C4: ระบบสำหรับรับส่งคำสั่งซื้อขายสัญญาซื้อขายล่วงหน้าจากลูกค้าไปยังศูนย์ซื้อขายสัญญาซื้อขายล่วงหน้า (Trading Venue) และตัวแทนซื้อขายในต่างประเทศ (oversea brokers & dealers)
A5: [บล.] ตัวแทนซื้อขายสัญญาซื้อขายล่วงหน้า | B5: ระบบ Back Office | C5: ระบบที่เกี่ยวข้องกับการจัดการข้อมูลลูกค้า ข้อมูลการซื้อขาย การวางหลักประกันระหว่างบริษัท ธุรกรรมกับลูกค้าและบุคคลอื่น (เช่น TCH) รวมถึงการดูแลทรัพย์สินของลูกค้า เช่น การฝากถอนเงิน เป็นต้น
A6: [บลจ.] การจัดการกองทุนรวม / การจัดการกองทุนส่วนบุคคล | B6: ระบบรับคำสั่งซื้อขายหน่วยลงทุน (Selling Agent) | C6: ระบบที่เกี่ยวข้องกับการรับคำสั่งซื้อขายหน่วยลงทุนจากลูกค้า
A7: [บลจ.] การจัดการกองทุนรวม / การจัดการกองทุนส่วนบุคคล | B7: ระบบจัดการกองทุน (Portfolio Management) | C7: ระบบที่เกี่ยวข้องกับการบริหารจัดการกองทุน
A8: [บลจ.] การจัดการกองทุนรวม / การจัดการกองทุนส่วนบุคคล | B8: ระบบ Back Office | C8: ระบบที่เกี่ยวข้องกับการชำระราคา การจัดสรรหน่วยลงทุน การเก็บรักษาทรัพย์สินของผู้ลงทุน และการคำนวณมูลค่าทรัพย์สิน
A9: [บลน. / LBDU] นายหน้าซื้อขาย / ค้า /จัดจำหน่ายหลักทรัพย์ ที่เป็นหน่วยลงทุน | B9: ระบบรับคำสั่งซื้อขายหน่วยลงทุน (Selling Agent) | C9: ระบบที่เกี่ยวข้องกับการรับคำสั่งซื้อขายหน่วยลงทุนจากลูกค้า
A10: [บลน. / LBDU] นายหน้าซื้อขาย / ค้า /จัดจำหน่ายหลักทรัพย์ ที่เป็นหน่วยลงทุน | B10: ระบบ Back Office | C10: ระบบที่เกี่ยวข้องกับการชำระราคา การจัดสรรหน่วยหน่วยลงทุน การเก็บรักษาทรัพย์สินของผู้ลงทุน และการจัดทำทะเบียนผู้ถือหน่วยลงทุน (กรณี omnibus)
A11: [Digital Asset Exchange] ศูนย์ซื้อขายสินทรัพย์ดิจิทัล | B11: ระบบซื้อขายสินทรัพย์ดิจิทัล | C11: ระบบสำหรับการซื้อขาย ระบบงานที่ช่วยเสริมสร้างและรักษากลไกการทำงานของระบบซื้อขาย ให้มีความเป็นระเบียบเรียบร้อย (market surveillance) ระบบชำระราคาและส่งมอบสินทรัพย์ดิจิทัล
A12: [Digital Asset Exchange] ศูนย์ซื้อขายสินทรัพย์ดิจิทัล | B12: ระบบการรับลูกค้า การพิสูจน์ยืนยันตัวของลูกค้า | C12: ระบบการรับลูกค้า (customer onboarding) และระบบการพิสูจน์ตัวตนของลูกค้า (KYC)
... A38: ธุรกิจอื่น ๆ | B38: ประเมินความเสี่ยงและกำหนดขอบเขตของการตรวจสอบให้ครอบคลุมระบบ IT ที่มีนัยสำคัญ | C38: ระบบที่หากมีการหยุดชะงักจะส่งผลกระทบอย่างมีนัยสำคัญต่อการดำเนินงานหรือความต่อเนื่องในการดำเนินงาน ชื่อเสียง หรือฐานะของผู้ประกอบธุรกิจ หรือการใช้บริการของลูกค้า

Sheet 4. D1
A1: # control ID | B1: H | C1: M | D1: L | E1: S | F1: สธ. 38/2565 (ปรับปรุงแก้ไขโดย สธ. 33/2567) | G1: นป. 6/2567 | H1: การควบคุมที่ สธ. # นป. | I1: การควบคุมที่ควรมี | J1: ระดับความสำคัญของ การควบคุม | K1: ตัวอย่างวิธีการเก็บหลักฐาน (Methods of obtaining audit evidence) สามารถนำไปปรับใช้ประกอบการประเมินได้ | L1: ผลการประเมิน | M1: คำอธิบาย | N1: ประเภทการวัดผล | O1: Maturity Level 1 (M1) | P1: Maturity Level 2 (M2) | Q1: Maturity Level 3 (M3) | R1: Maturity Level 4 (M4) | S1: Maturity Level 5 (M5)
F2: หมวดที่ 1 การกำกับดูแลและบริหารจัดการด้าน IT (Information Technology Governance) | O2: M1 | P2: M2 | Q2: M3 | R2: M4 | S2: M5
F3: ส่วนที่ 1 บทบาทหน้าที่และความรับผิดชอบของคณะกรรมการของผู้ประกอบธุรกิจ
F4: บทบาทหน้าที่และความรับผิดชอบของคณะกรรมการของผู้ประกอบธุรกิจ
A5: D1 #1 | B5: x | C5: x | D5: x | F5: 1.1 | G5: 1 | H5: 1.1 #1 | I5: มีการกำหนดกรอบการกำกับดูแลด้าน IT (governance framework) โดยครอบคลุมถึงรายละเอียด โครงสร้าง บทบาทหน้าที่ และกระบวนการที่เกี่ยวข้องกับการกำกับดูแลด้าน IT | J5: H | K5: 1. สัมภาษณ์คณะกรรมการของผู้ประกอบธุรกิจหรือคณะกรรมการที่ได้รับมอบหมายจากคณะกรรมการของผู้ประกอบธุรกิจ เกี่ยวกับกระบวนการและกรอบการกำกับดูแลด้าน IT เพื่อให้มั่นใจว่าผู้ประกอบธุรกิจมีการจัดทำกรอบการกำกับดูแลด้าน IT 2. สอบทานกรอบการกำกับดูแลด้าน IT เพื่อให้มั่นใจว่า (1) บริษัทมีการกำหนดโครงสร้างการกำกับดูแล บทบาทหน้าที่และความรับผิดชอบของคณะกรรมการของผู้ประกอบธุรกิจ ผู้บริหารระดับสูง และฝ่ายงานที่เกี่ยวข้อง (2) บริษัทมีการกำหนดกระบวนการที่เกี่ยวข้องกับการกำกับดูแลด้าน IT เช่น การจัดทำและขออนุมัติแผนงานด้าน IT การจัดทำและขออนุมัติทรัพยากรด้าน IT และ การติดตามและรายงานผลการดำเนินการด้าน IT เป็นต้น | M5: =IFERROR(IF(N5="Maturity",HLOOKUP(L5,$O$2:$S$200,ROW()-1,0),"N/A"),"") -> N/A | N5: Yes/Partial/No | O5: N/A | P5: N/A | Q5: N/A | R5: N/A | S5: N/A | T5: =IF(OR(L5="Yes",L5="M3",L5="M4",L5="M5"),3,IF(OR(L5="Partial",L5="M2"),2,IF(L5="N/A",0,1))) -> 1 | U5: =IF(L5="M4",1,IF(L5="M5",2,0)) -> 0 | V5: =T5+U5 -> 1 | W5: =IF(ISBLANK(L5),1,0) -> 1
A6: D1 #2 | B6: x | C6: x | D6: x | F6: 1.1 | G6: 2 | H6: 1.1 #2 | I6: มีการจัดทำแผนงานด้าน IT ประจำปีซึ่งสอดรับกับกลยุทธ์ ในการดำเนินธุรกิจ และมีความเหมาะสมเพียงพอที่จะรองรับการเปลี่ยนแปลงด้าน IT และการเปลี่ยนแปลงการดำเนินธุรกิจในอนาคต | J6: H | K6: 1. สัมภาษณ์คณะกรรมการของผู้ประกอบธุรกิจหรือคณะกรรมการที่ได้รับมอบหมายจากคณะกรรมการของผู้ประกอบธุรกิจ เกี่ยวกับกระบวนการกำกับดูแลแผนงานด้าน IT เพื่อให้มั่นใจว่าแผนงานด้าน IT มีความสอดคล้องกับแผนทางธุรกิจและรองรับการเปลี่ยนแปลงทางด้าน IT 2. สอบทาน "แผนงานด้าน IT ประจำปี" เพื่อให้มั่นใจว่า บริษัทมีการจัดทำและอนุมัติแผนงานด้าน IT ที่สอดคล้องกับกลยุทธ์ในการดำเนินธุรกิจและมีความยืดหยุ่นเพียงพอที่จะรองรับการเปลี่ยนแปลงในอนาคต (M4) 3. สอบทาน "หลักฐานการสอบทานแผนงานด้าน IT ประจำปี" เพื่อให้มั่นใจว่ากรอบกำกับดูแลและแผนงานดังกล่าวได้กำหนดกรอบเวลาที่ชัดเจนในการสอบทานและปรับปรุงให้มีความสอดคล้องกับแผนทางธุรกิจ หรือการเปลี่ยนแปลงของการดำเนินธุรกิจอย่างสม่ำเสมอ (M5) 4. สอบทาน "หลักฐานการติดตามเชิงรุกต่อการเปลี่ยนแปลงด้าน IT และการเปลี่ยนแปลงการดำเนินธุรกิจ" เช่น เอกสารที่แสดงให้เห็นว่าคณะกรรมการได้นำปัจจัยการเปลี่ยนแปลงของ IT ที่คาดว่ามีหรือกำลังจะนำมาใช้ หรือกรณีผู้ประกอบธุรกิจมีแผนการขยายธุรกิจ มาพิจารณาถึงผลกระทบต่อแผนงานด้าน IT เพื่อให้มั่นใจว่า คณะกรรมการมีการติดตามเชิงรุกต่อการเปลี่ยนแปลงด้าน IT และการเปลี่ยนแปลงการดำเนินธุรกิจ เพื่อนำไปพัฒนาปรับปรุงแผนงานด้าน IT ประจำปีให้เพียงพอต่อการรองรับการเปลี่ยนแปลงที่อาจเกิดขึ้นในอนาคต | M6: =IFERROR(IF(N6="Maturity",HLOOKUP(L6,$O$2:$S$200,ROW()-1,0),"N/A"),"") | N6: Maturity | O6: ไม่มีการจัดทำแผนงานด้าน IT ประจำปี | P6: มีการจัดทำแผนงานด้าน IT แต่ยังไม่สอดคล้องกับกลยุทธ์หรือแผนการดำเนินธุรกิจ หรือไม่เพียงพอที่จะรองรับการเปลี่ยนแปลงที่อาจเกิดขึ้นในอนาคต | Q6: มีการจัดทำแผนงานด้าน IT ที่สอดคล้องกับกลยุทธ์หรือแผนการดำเนินธุรกิจ และเพียงพอเพื่อรองรับการเปลี่ยนแปลงที่อาจเกิดขึ้นในอนาคต และได้รับการอนุมัติจากคณะกรรมการของผู้ประกอบธุรกิจหรือคณะกรรมการที่ได้รับมอบหมายจากคณะกรรมการของผู้ประกอบธุรกิจ | R6: มีการจัดทำตาม Maturity Level 3 รวมถึงมีการสอบทานแผนงานด้าน IT ระหว่างปี เพื่อให้มั่นใจว่ามีความสอดคล้องกับการดำเนินธุรกิจและ IT ในปัจจุบัน | S6: มีการจัดทำตาม Maturity Level 4 รวมถึงมีการติดตามเชิงรุกต่อการเปลี่ยนแปลงด้าน IT และการเปลี่ยนแปลงการดำเนินธุรกิจที่อาจเกิดขึ้น เพื่อนำไปพัฒนาปรับปรุงแผนงานด้าน IT | T6: =IF(OR(L6="Yes",L6="M3",L6="M4",L6="M5"),3,IF(OR(L6="Partial",L6="M2"),2,IF(L6="N/A",0,1))) -> 1 | U6: =IF(L6="M4",1,IF(L6="M5",2,0)) -> 0 | V6: =T6+U6 -> 1 | W6: =IF(ISBLANK(L6),1,0) -> 1
A7: D1 #3 | B7: x | C7: x | D7: x | F7: 1.2 | G7: 1 | H7: 1.2 #1 | I7: มีการบริหารทรัพยากรทางด้าน IT และทรัพยากรบุคคลให้สอดคล้องกับเป้าหมาย ตามภารกิจ กลยุทธ์ นโยบาย และแผนการดำเนินงานที่กำหนดไว้ | J7: M | K7: 1. สอบทาน “แผนงานด้าน IT” “งบประมาณทางด้าน IT” และ “การบริหารอัตรากำลังของบุคลากรด้าน IT” หรือ “การประเมินอัตรากำลังของเจ้าหน้าที่ IT” เพื่อให้มั่นใจว่าบริษัทมีการจัดสรรงบประมาณและบุคลากรเพียงพอต่อการดำเนินงานตามแผนงานด้าน IT 2. สอบทาน“รายงานการประชุมคณะกรรมการผู้ประกอบธุรกิจ” เพื่อให้มั่นใจว่าคณะกรรมการฯ มีการพิจารณาความเพียงพอของทรัพยากรและบุคคลากรทางด้าน IT ต่อการดำเนินการตามแผนงานทางด้าน IT อย่างเหมาะสม (M4) 3. สอบทาน หลักฐานการสอบทาน “งบประมาณทางด้าน IT” และ “แผนการบริหารอัตรากำลังของบุคลากรด้าน IT” เพื่อให้มั่นใจว่าการบริหารทรัพยากรดังกล่าวได้รับการปรับปรุงให้มีความสอดคล้องกับแผนทางด้าน IT อย่างสม่ำเสมอ (M5) 4. สอบทาน "หลักฐานการติดตามเชิงรุกต่อการเปลี่ยนแปลงแผนงานด้าน IT" เพื่อให้มั่นใจว่า บริษัทมีการติดตามเชิงรุกต่อการเปลี่ยนแปลงแผนทางด้าน IT เพื่อนำไปพัฒนาปรับปรุงแผนการบริหารทรัพยากรทางด้าน IT และทรัพยากรบุคคลให้เพียงพอต่อการรองรับการเปลี่ยนแปลงที่อาจเกิดขึ้นในอนาคต | M7: =IFERROR(IF(N7="Maturity",HLOOKUP(L7,$O$2:$S$200,ROW()-1,0),"N/A"),"") | N7: Maturity | O7: ไม่มีการกำกับดูแลจัดสรรทรัพยากรทางด้าน IT และการจัดสรรทรัพยากรบุคคล | P7: มีการกำกับดูแลจัดสรรทรัพยากรทางด้าน IT และการจัดสรรทรัพยากรบุคคล แต่ไม่สอดคล้องกับแผนงานด้าน IT | Q7: มีการกำกับดูแลจัดสรรทรัพยากรทางด้าน IT และการจัดสรรทรัพยากรบุคคล สอดคล้องกับแผนงานด้าน IT | R7: มีการจัดทำตาม Maturity Level 3 รวมถึงมีการติดตามรายงานผลการดำเนินงานตามแผนสรรทรัพยากรทางด้าน IT และการจัดสรรทรัพยากรบุคคล เพื่อให้มั่นใจว่ามีการจัดสรรดังกล่าวสอดคล้องกับแผนด้าน IT และเพียงพอต่อการดำเนินธุรกิจตามเป้าหมายขององค์กรที่วางไว้ได้ | S7: มีการจัดทำตาม Maturity Level 4 รวมถึงมีการติดตามเชิงรุกต่อการเปลี่ยนแปลงด้าน IT และการเปลี่ยนแปลงการดำเนินธุรกิจที่อาจเกิดขึ้น เพื่อนำไปพัฒนาปรับปรุงแผนการบริหารทรัพยากรทางด้าน IT และทรัพยากรบุคคลให้เพียงพอต่อการรองรับการเปลี่ยนแปลงที่อาจเกิดขึ้นในอนาคต | T7: =IF(OR(L7="Yes",L7="M3",L7="M4",L7="M5"),3,IF(OR(L7="Partial",L7="M2"),2,IF(L7="N/A",0,1))) -> 1 | U7: =IF(L7="M4",1,IF(L7="M5",2,0)) -> 0 | V7: =T7+U7 -> 1 | W7: =IF(ISBLANK(L7),1,0) -> 1
A8: D1 #4 | B8: x | C8: x | D8: x | F8: 1.3 | H8: 1.3 | I8: - อ้างอิงการควบคุมที่ 2.2 - | T8: =IF(OR(L8="Yes",L8="M3",L8="M4",L8="M5"),3,IF(OR(L8="Partial",L8="M2"),2,IF(L8="N/A",0,1))) -> 1 | U8: =IF(L8="M4",1,IF(L8="M5",2,0)) -> 0 | V8: =T8+U8 -> 1 | W8: =IF(ISBLANK(L8),1,0) -> 1
A9: D1 #5 | B9: x | C9: x | D9: x | F9: 1.4 | H9: 1.4 | I9: - อ้างอิงการควบคุมที่ 2.2.1 และ 2.2.2 - | T9: =IF(OR(L9="Yes",L9="M3",L9="M4",L9="M5"),3,IF(OR(L9="Partial",L9="M2"),2,IF(L9="N/A",0,1))) -> 1 | U9: =IF(L9="M4",1,IF(L9="M5",2,0)) -> 0 | V9: =T9+U9 -> 1 | W9: =IF(ISBLANK(L9),1,0) -> 1
A10: D1 #6 | B10: x | C10: x | D10: x | F10: 1.5 | G10: 1 | H10: 1.5 #1 | I10: มีกระบวนการการสร้างความรู้และความตระหนักด้าน IT Risk แก่กรรมการและบุคลากรอย่างต่อเนื่องและมีประสิทธิผล โดยกรรมการของผู้ประกอบธุรกิจ อย่างน้อย 1 ท่าน ได้รับการสร้างความรู้และความตระหนักด้าน IT Risk อย่างเพียงพอ ตามระยะเวลาที่เหมาะสม เพื่อให้เท่าทันกับภัยคุกคามใหม่ และสภาพแวดล้อมด้าน IT ที่เปลี่ยนแปลงไป | J10: M | K10: 1. สัมภาษณ์ คณะกรรมการของผู้ประกอบธุรกิจ หรือคณะกรรมการที่ได้รับมอบหมายจากคณะกรรมการของผู้ประกอบธุรกิจ เกี่ยวกับการสื่อสารสร้างความรู้และความตระหนักรู้ทางด้าน IT Risk ให้แก่กรรมการและบุคลากร 2. สัมภาษณ์ ผู้บริหารหน่วยงานทรัพยากรบุคคล (Human Resource) หรือ ผู้บริหารด้าน IT หรือผู้ที่ได้รับมอบหมายหน้าที่ เกี่ยวกับวิธีการสร้างความรู้และความตระหนักรู้ด้าน IT Risk อย่างเพียงพอต่อกรรมการของผู้ประกอบธุรกิจ 3. สอบทาน "หลักฐานการสร้างความรู้และความตระหนักรู้ด้าน IT Risk " เช่น เอกสารประกอบการอบรม ใบลงชื่อผู้เข้าร่วมอบรมและเอกสารที่เกี่ยวข้องอื่น ๆ เป็นต้น 4. สอบทาน "หลักฐานการสร้างความรู้และความตระหนักรู้ด้าน IT Risk" ต่อกรรมการของผู้ประกอบธุรกิจ เช่น หลักฐานการเข้าร่วมกิจกรรม Cyber Armor : Board Awareness ประจำปี ที่สำนักงาน ก.ล.ต. ได้จัด หลักฐานการเข้าร่วมการอบรม สัมมนา หรือกิจกรรมอื่น ๆ ที่กรรมการได้เข้าร่วมระหว่างปี เป็นต้น (M4) 5. สอบทาน "เอกสารการประเมินผล หรือวัดผลความรู้และความตระหนักรู้ด้าน IT Risk" นำผลลัพธ์มาวิเคราะห์ ปรับปรุงวิธีการ รวมถึงพิจารณาการจัดอบรมเพิ่มเติมเพื่อให้มั่นใจว่า กรรมการและบุคลากรมีความรู้และความตระหนักด้าน IT Risk อย่างมีประสิทธิผลแลเพียงพอในการปฎิบัติงานอย่างต่อเนื่อง (M5) 6. สอบทาน "หลักฐานการปรับปรุง (update) ข้อมูลที่ใช้สื่อสารเพื่อสร้างความรู้และความตระหนักรู้ด้าน IT Risk" ให้เท่าทันกับเทคโนโลยีและความเสี่ยงที่เปลี่ยนแปลงไป | M10: =IFERROR(IF(N10="Maturity",HLOOKUP(L10,$O$2:$S$200,ROW()-1,0),"N/A"),"") | N10: Maturity | O10: ผู้ประกอบธุรกิจไม่มีกระบวนการการสร้างความรู้และความตระหนักด้าน IT Risk แก่กรรมการและบุคลากรอย่างต่อเนื่องและมีประสิทธิผล | P10: ผู้ประกอบธุรกิจมีการสร้างความรู้ด้าน IT Risk แก่กรรมการและบุคลากร แต่ยังไม่ครอบคลุมกรรมการและบุคลากรทุกคน | Q10: ผู้ประกอบธุรกิจมีกระบวนการสร้างความรู้และความตระหนักด้าน IT Risk แก่กรรมการและบุคลากรอย่างต่อเนื่องและมีประสิทธิผล | R10: มีการจัดทำตาม Maturity Level 3 รวมถึงมีการวัดผล ประเมินผล เพื่อนำมาพัฒนากระบวนการสร้างความรู้และความตระหนักด้าน IT Risk | S10: มีการจัดทำตาม Maturity Level 4 รวมถึงมีการปรับปรุงองค์ความรู้ให้เท่าทันกับความเสี่ยงและเทคโนโลยีที่เปลี่ยนแปลงไป เพื่อนำไปสื่อสารให้กรรมการและบุคลากรมีความรู้และความตระหนักที่เป็นปัจจุบันอย่างต่อเนื่อง | T10: =IF(OR(L10="Yes",L10="M3",L10="M4",L10="M5"),3,IF(OR(L10="Partial",L10="M2"),2,IF(L10="N/A",0,1))) -> 1 | U10: =IF(L10="M4",1,IF(L10="M5",2,0)) -> 0 | V10: =T10+U10 -> 1 | W10: =IF(ISBLANK(L10),1,0) -> 1
A11: D1 #7 | B11: x | C11: x | D11: x | F11: 1.6 | G11: 1-2 | H11: 1.6 #1-2 | I11: มีกระบวนการติดตาม ตรวจสอบ และจัดให้มีรายงานผลการปฏิบัติตามนโยบายในการกำกับดูแลและบริหารจัดการ IT ต่อคณะกรรมการของผู้ประกอบธุรกิจ หรือคณะกรรมการที่ได้รับมอบหมายจากคณะกรรมการของ ผู้ประกอบธุรกิจเฉพาะกรณีเป็นสาขาของธนาคารพาณิชย์ต่างประเทศ เมื่อมีเหตุการณ์สำคัญที่มีผลกระทบต่อการกำกับดูแลและบริหารจัดการ IT หรือ อย่างน้อยปีละ 1 ครั้ง | J11: M | K11: 1.สัมภาษณ์คณะกรรมการของผู้ประกอบธุรกิจ หรือคณะกรรมการที่ได้รับมอบหมายจากคณะกรรมการของผู้ประกอบธุรกิจ หรือคณะกรรมการที่ได้รับมอบหมายจากคณะกรรมการของผู้ประกอบธุรกิจเฉพาะกรณีเป็นสาขาของธนาคารพาณิชย์ต่างประเทศ เกี่ยวกับกระบวนการติดตาม และจัดให้มีการรายงานผลการปฏิบัติตามนโยบายการกำกับดูแลและบริหารจัดการด้าน IT เพื่อให้มั่นใจว่ามีข้อมูลเพียงพอต่อการการกำกับดูแลอย่างเหมาะสม 2.สัมภาษณ์ผู้บริหารด้าน IT หรือผู้เกี่ยวข้องในกระบวนการรายงานผลการปฏิบัติตามนโยบายการกำกับดูแลและการบริหารจัดการด้าน IT เพื่อให้มั่นใจว่ามีการรายงานผลการปฏิบัติงานดังกล่าวต่อคณะกรรมการของผู้ประกอบธุรกิจ หรือคณะกรรมการที่ได้รับมอบหมายจากคณะกรรมการของผู้ประกอบธุรกิจเฉพาะกรณีเป็นสาขาของธนาคารพาณิชย์ต่างประเทศ ทราบโดยไม่ชักช้า 3. สอบทาน “รายงานการประชุมคณะกรรมการผู้ประกอบธุรกิจ” หรือ "รายงานการประชุมคณะกรรมการที่ได้รับมอบหมาย" กรณีที่ผู้ประกอบธุรกิจเป็นสาขาของธนาคารพาณิชย์ต่างประเทศ เพื่อให้มั่นใจว่ามีการติดตามและทบทวนการปฏิบัติตามนโยบายการกำกับดูแลและบริหารจัดการด้าน IT อย่างน้อยปีละ 1 ครั้ง โดยประกอบไปด้วยหัวข้อดังต่อไปนี้ (1) ผลการบริหารจัดการด้าน IT Risk โดยหน่วยงานที่ทำหน้าที่บริหารด้าน IT Risk หรือหน่วยงานที่เกี่ยวข้อง (2) ผลการปฏิบัติตามกฎระเบียบ ข้อบังคับ หรือนโยบายการรักษาความมั่นคงปลอดภัยด้าน IT ในภาพรวมขององค์กร โดยหน่วยงานที่ทำหน้าที่กำกับดูแลการปฏิบัติงานด้าน IT หรือหน่วยงานที่เกี่ยวข้อง (3) ผลการตรวจสอบด้าน IT (IT audit) (ถ้ามีการตรวจสอบในรอบปี) เช่น ผลการตรวจสอบด้าน IT ตามข้อกำหนด สธ. 38/2565 ผลการตรวจสอบด้าน IT ตามมาตรฐานอื่น ๆ หรือผลการตรวจสอบสำหรับการใช้งานภายใน เป็นต้น และความคืบหน้าในการดำเนินการแก้ไขข้อบกพร่อง โดยหน่วยงานที่ทำหน้าที่ตรวจสอบด้าน IT หรือหน่วยงานที่เกี่ยวข้อง (4) ผลการปฏิบัติงานด้าน IT ที่สำคัญ เช่น (ก) เหตุการณ์ผิดปกติ หรือปัญหาด้าน IT ที่สำคัญ (ข) ความเพียงพอของทรัพยากรด้าน IT (capacity and system utilization) (ค) ความคืบหน้าของโครงการด้าน IT ในภาพรวมและโครงการที่สำคัญ (ง) การปฏิบัติงานด้าน IT ของบุคคลภายนอก (จ) ผลการทดสอบการปฏิบัติตามแผนฉุกเฉินด้าน IT | M11: =IFERROR(IF(N5="Maturity",HLOOKUP(L5,$O$2:$S$200,ROW()-1,0),"N/A"),"") -> N/A | N11: Yes/Partial/No | O11: N/A | P11: N/A | Q11: N/A | R11: N/A | S11: N/A | T11: =IF(OR(L11="Yes",L11="M3",L11="M4",L11="M5"),3,IF(OR(L11="Partial",L11="M2"),2,IF(L11="N/A",0,1))) -> 1 | U11: =IF(L11="M4",1,IF(L11="M5",2,0)) -> 0 | V11: =T11+U11 -> 1 | W11: =IF(ISBLANK(L11),1,0) -> 1
F12: ส่วนที่ 2 การกำกับดูแลและบริหารจัดการ IT Risk ในระดับองค์กร | T12: =IF(OR(L12="Yes",L12="M3",L12="M4",L12="M5"),3,IF(OR(L12="Partial",L12="M2"),2,IF(L12="N/A",0,1))) -> 1 | U12: =IF(L12="M4",1,IF(L12="M5",2,0)) -> 0 | V12: =T12+U12 -> 1
F13: โครงสร้างการกำกับดูแล | T13: =IF(OR(L13="Yes",L13="M3",L13="M4",L13="M5"),3,IF(OR(L13="Partial",L13="M2"),2,IF(L13="N/A",0,1))) -> 1 | U13: =IF(L13="M4",1,IF(L13="M5",2,0)) -> 0 | V13: =T13+U13 -> 1
A14: D1 #8 | B14: x | C14: x | D14: x | F14: 2.1 | G14: 1 | H14: 2.1 #1 | I14: มีโครงสร้างการกำกับดูแลและบริหารจัดการ IT Risk ที่มีการถ่วงดุลอำนาจ (check and balance) และมีการแบ่งแยกหน้าที่ (segratation of duties) อย่างเหมาะสม ตามหลักการแบ่งแยกหน้าที่ 3 ระดับ (3 Lines of Defense : 3 LoDs) โดยมีการแบ่งแยกหน้าที่อย่างชัดเจน ดังนี้ (1) ระดับที่ 1 (first line of defense) : การปฏิบัติงาน (2) ระดับที่ 2 (second line of defense) : การบริหารความเสี่ยงและกำกับดูแลการปฏิบัติตามกฎหมายและหลักเกณฑ์ที่เกี่ยวข้อง (3) ระดับที่ 3 (third line of defense) : การตรวจสอบ | J14: M | K14: 1. สัมภาษณ์คณะกรรมการของผู้ประกอบธุรกิจหรือคณะกรรมการที่ได้รับมอบหมายจากคณะกรรมการของผู้ประกอบธุรกิจด้านการจัดโครงสร้างองค์กรเพื่อให้มั่นใจว่ามีการถ่วงดุลอย่างอิสระ (check and balance) และมีการแบ่งแยกหน้าที่ (segregation of duties) อย่างเหมาะสม ตามหลักการแบ่งแยกหน้าที่ 3 ระดับด้านการบริหารจัดการ IT Risk 2. สอบทาน “แผนผังองค์กรของบริษัท และแผนผังองค์กรสารสนเทศ” เพื่อให้มั่นใจว่ามีการกำหนดหน่วยงานจัดโครงสร้างองค์กร ตามหลักการถ่วงดุลอำนาจ (check and balance) และมีการแบ่งแยกหน้าที่ (segratation of duties) 3 ระดับ | M14: =IFERROR(IF(N5="Maturity",HLOOKUP(L5,$O$2:$S$200,ROW()-1,0),"N/A"),"") -> N/A | N14: Yes/Partial/No | O14: N/A | P14: N/A | Q14: N/A | R14: N/A | S14: N/A | T14: =IF(OR(L14="Yes",L14="M3",L14="M4",L14="M5"),3,IF(OR(L14="Partial",L14="M2"),2,IF(L14="N/A",0,1))) -> 1 | U14: =IF(L14="M4",1,IF(L14="M5",2,0)) -> 0 | V14: =T14+U14 -> 1 | W14: =IF(ISBLANK(L14),1,0) -> 1
A15: D1 #9 | B15: x | F15: 2.1 | G15: 2 | H15: 2.1 #2 | I15: จัดให้มีกรรมการของผู้ประกอบธุรกิจ หรือที่ปรึกษาของผู้ประกอบธุรกิจ อย่างน้อย 1 ท่านที่มีความรู้หรือประสบการณ์ด้าน IT เพื่อให้คณะกรรมการสามารถกำหนดทิศทางและกำกับดูแลให้มีการใช้ IT ให้สอดรับกับกลยุทธ์ในการดำเนินธุรกิจ และบริหารจัดการด้าน IT Risk ได้อย่างมีประสิทธิภาพ | J15: M | K15: 1. สอบทานกระบวนการสรรหาหรือคุณสมบัติของกรรมการของผู้ประกอบธุรกิจ หรือที่ปรึกษาของผู้ประกอบธุรกิจทางด้าน IT เพื่อให้มั่นใจว่ากรรมการหรือที่ปรึกษาอย่างน้อย 1 ท่าน ที่มีความรู้หรือประสบการณ์ด้าน IT โดยพิจารณาได้จาก (1) สำเร็จการศึกษาในสาขา IT หรือสาขาที่เกี่ยวข้อง หรือ (2) มีประสบการณ์ในตำแหน่งหัวหน้าหน่วยงาน หรือมีหน้าที่รับผิดชอบเป็นผู้บริหารงานหลัก หรือมีประสบการณ์ในด้านการให้คำปรึกษาที่เกี่ยวข้องด้าน IT หรือ (3) มีประสบการณ์หรือได้รับแต่งตั้งเป็นสมาชิกในคณะกรรมการหรือคณะทำงานที่เกี่ยวข้องด้าน IT กรณีที่คณะกรรมการของผู้ประกอบธุรกิจแต่งตั้งคณะกรรมการชุดย่อยเพื่อทำหน้าที่ให้คำปรึกษาด้าน IT แก่คณะกรรมการของผู้ประกอบธุรกิจ ผู้ประกอบธุรกิจควรกำหนดบทบาทหน้าที่คณะกรรมการชุดย่อยอย่างชัดเจนและเป็นลายลักษณ์อักษร โดยคณะกรรมการชุดย่อยควรประกอบด้วยกรรมการที่มีความรู้หรือประสบการณ์ด้าน IT อย่างน้อย 1 ท่าน | M15: =IFERROR(IF(N5="Maturity",HLOOKUP(L5,$O$2:$S$200,ROW()-1,0),"N/A"),"") -> N/A | N15: Yes/Partial/No | O15: N/A | P15: N/A | Q15: N/A | R15: N/A | S15: N/A | T15: =IF(OR(L15="Yes",L15="M3",L15="M4",L15="M5"),3,IF(OR(L15="Partial",L15="M2"),2,IF(L15="N/A",0,1))) -> 1 | U15: =IF(L15="M4",1,IF(L15="M5",2,0)) -> 0 | V15: =T15+U15 -> 1 | W15: =IF(ISBLANK(L15),1,0) -> 1
A16: D1 #10 | B16: x | F16: 2.1 | G16: 3 | H16: 2.1 #3 | I16: จัดให้มีผู้บริหารระดับสูง(chief information security officer : CISO)หรือผู้บริหารที่รับผิดชอบในการบริหารจัดการความมั่นคงปลอดภัยด้าน IT มีคุณสมบัติและอำนาจหน้าที่ที่เหมาะสม | J16: M | K16: 1. สัมภาษณ์ คณะกรรมการของผู้ประกอบธุรกิจหรือคณะกรรมการที่ได้รับมอบหมายจากคณะกรรมการของผู้ประกอบธุรกิจ เกี่ยวกับโครงสร้างองค์กร โครงสร้างของฝ่ายงาน IT ขั้นตอนการกำหนดบทบาท หน้าที่และความรับผิดชอบให้กับหน่วยงานที่เกี่ยวข้องตามข้อกำหนด รวมถึงการตรวจสอบคุณสมบัติ ประสบการณ์ และความเชี่ยวชาญของบุคลากรดังกล่าว 2. สอบทานคุณสมบัติและอำนาจหน้าที่ของผู้บริหารระดับสูง (chief information security officer : CISO) หรือผู้บริหารที่รับผิดชอบในการบริหารจัดการความมั่นคงปลอดภัยด้าน IT ดังนี้ (1) มีความเป็นอิสระจากหน่วยงานที่ทำหน้าที่ปฏิบัติงานด้าน IT (IT operation) และงานด้านพัฒนาระบบด้าน IT (IT development) สอดคล้องตามหลักการถ่วงดุล (check and balance) ที่ดี (2) เป็นผู้ที่มีความรู้ความสามารถหรือมีประสบการณ์ด้าน IT และด้านการบริหารจัดการความมั่นคงปลอดภัยด้าน IT และ (3) มีอำนาจหน้าที่ (authority) เพียงพอในการปฏิบัติหน้าที่ได้อย่างมีประสิทธิภาพและประสิทธิผล โดยสามารถ ดำเนินการอย่างน้อย ดังนี้ (ก) รายงานปัญหาหรือเหตุการณ์ที่มีนัยสำคัญซึ่งกระทบต่อความมั่นคงปลอดภัยด้าน IT ต่อผู้บริหารในตำแหน่งสูงสุดขององค์กร และคณะกรรมการที่เกี่ยวข้องโดยตรง (ข) ให้ความเห็นด้านภัยคุกคามทางไซเบอร์และการบริหารจัดการความเสี่ยงด้านความมั่นคงปลอดภัยด้าน IT ต่อคณะกรรมการของผู้ประกอบธุรกิจ หรือ คณะกรรมการที่เกี่ยวข้องกับการบริหารจัดการและ กำกับดูแลการปฏิบัติงานด้าน IT และร่วมตัดสินใจดำเนินการในเรื่องความมั่นคงปลอดภัยด้าน IT และ ภัยคุกคามทางไซเบอร์ที่มีผลกระทบอย่างมีนัยสำคัญ | M16: =IFERROR(IF(N5="Maturity",HLOOKUP(L5,$O$2:$S$200,ROW()-1,0),"N/A"),"") -> N/A | N16: Yes/Partial/No | O16: N/A | P16: N/A | Q16: N/A | R16: N/A | S16: N/A | T16: =IF(OR(L16="Yes",L16="M3",L16="M4",L16="M5"),3,IF(OR(L16="Partial",L16="M2"),2,IF(L16="N/A",0,1))) -> 1 | U16: =IF(L16="M4",1,IF(L16="M5",2,0)) -> 0 | V16: =T16+U16 -> 1 | W16: =IF(ISBLANK(L16),1,0) -> 1
A17: D1 #11 | B17: x | F17: 2.1 | G17: 4 | H17: 2.1 #4 | I17: คณะกรรมการของผู้ประกอบธุรกิจอาจแต่งตั้งคณะกรรมการเพื่อทำหน้าที่ที่เกี่ยวข้องกับการกำกับดูแลด้าน IT Risk | J17: M | K17: 1. สอบทาน "เอกสารแต่งตั้งคณะกรรมการหรือคณะทำงานเกี่ยวกับการกำกับดูแลด้าน IT Risk" เพื่อให้มั่นใจว่ามีการกำหนดอำนาจ หน้าที่ และความรับผิดชอบของคณะทำงานด้านการกำกับดูแลด้าน IT Risk เพียงพอต่อการกำกับดูแลด้าน IT Risk เช่น (1) คณะกรรมการกำกับดูแลและบริหารจัดการด้าน IT (เช่น IT steering committee หรือคณะกรรมการที่ได้รับ มอบหมาย เป็นต้น) เพื่อดูแลให้มีการใช้งาน IT ที่สอดคล้องกับกลยุทธ์ของผู้ประกอบธุรกิจ (2) คณะกรรมการกำกับดูแลการบริหารความเสี่ยงด้าน IT (เช่น คณะกรรมการบริหารความเสี่ยง หรือ คณะกรรมการที่ได้รับมอบหมาย เป็นต้น) เพื่อดูแลให้มีการกำหนดนโยบายการบริหาร IT Risk รวมทั้ง กำกับดูแลและติดตามให้เป็นไปตามนโยบายที่กำหนดไว้ (3) คณะกรรมการกำกับดูแลการตรวจสอบด้าน IT (เช่น คณะกรรมการตรวจสอบ หรือคณะกรรมการที่ได้รับ มอบหมาย เป็นต้น) เพื่อให้ผู้ประกอบธุรกิจมีการตรวจสอบด้าน IT อย่างเป็นอิสระ ครอบคลุมถึงการปฏิบัติงานการบริหาร IT Risk และการกำกับดูแลการปฏิบัติตามกฎหมายและหลักเกณฑ์ที่เกี่ยวข้องกับ IT กรณีที่ไม่มีการแต่งตั้งคณะกรรมการใด ๆ เนื่องจากไม่มีความจำเป็นในบริบทขององค์กร ให้ผลการประเมินเป็น N/A | M17: =IFERROR(IF(N5="Maturity",HLOOKUP(L5,$O$2:$S$200,ROW()-1,0),"N/A"),"") -> N/A | N17: Yes/Partial/No | O17: N/A | P17: N/A | Q17: N/A | R17: N/A | S17: N/A | T17: =IF(OR(L17="Yes",L17="M3",L17="M4",L17="M5"),3,IF(OR(L17="Partial",L17="M2"),2,IF(L17="N/A",0,1))) -> 1 | U17: =IF(L17="M4",1,IF(L17="M5",2,0)) -> 0 | V17: =T17+U17 -> 1 | W17: =IF(ISBLANK(L17),1,0) -> 1
F18: นโยบายที่เกี่ยวข้องกับการกำกับดูแล IT Risk | T18: =IF(OR(L18="Yes",L18="M3",L18="M4",L18="M5"),3,IF(OR(L18="Partial",L18="M2"),2,IF(L18="N/A",0,1))) -> 1 | U18: =IF(L18="M4",1,IF(L18="M5",2,0)) -> 0 | V18: =T18+U18 -> 1
A19: D1 #12 | B19: x | C19: x | D19: x | F19: 2.2 | H19: 2.2 | I19: มีการจัดทำนโยบายการบริหารจัดการด้าน IT Risk (IT risk management policy) เป็นลายลักษณ์อักษร โดยต้องได้รับความเห็นชอบจากคณะกรรมการของผู้ประกอบธุรกิจหรือคณะกรรมการที่ได้รับมอบหมายจากคณะกรรมการของผู้ประกอบธุรกิจ | J19: H | K19: 1. สัมภาษณ์ ผู้บริหารหน่วยงานที่เกี่ยวข้องเกี่ยวกับขั้นตอนการจัดทำ ปรับปรุง และสื่อสารนโยบายการบริหารจัดการด้าน IT Risk (IT risk management policy) 2. สอบทาน “นโยบายการบริหารจัดการด้าน IT Risk (IT risk management policy)” เพื่อให้มั่นใจว่ามีการจัดทำนโยบายที่เกี่ยวข้องกับการกำกับดูแลด้าน IT Risk ที่สอดคล้องกับมาตรฐานที่เกี่ยวข้องเป็นลายลักษณ์อักษร และได้รับการอนุมัติโดยคณะกรรมการของผู้ประกอบธุรกิจ หรือคณะกรรมการที่ได้รับมอบหมายจากคณะกรรมการของผู้ประกอบธุรกิจ | M19: =IFERROR(IF(N5="Maturity",HLOOKUP(L5,$O$2:$S$200,ROW()-1,0),"N/A"),"") -> N/A | N19: Yes/Partial/No | O19: N/A | P19: N/A | Q19: N/A | R19: N/A | S19: N/A | T19: =IF(OR(L19="Yes",L19="M3",L19="M4",L19="M5"),3,IF(OR(L19="Partial",L19="M2"),2,IF(L19="N/A",0,1))) -> 1 | U19: =IF(L19="M4",1,IF(L19="M5",2,0)) -> 0 | V19: =T19+U19 -> 1 | W19: =IF(ISBLANK(L19),1,0) -> 1
A20: D1 #13 | B20: x | C20: x | D20: x | F20: 2.2.1 | H20: 2.2.1 | I20: มีการจัดทำนโยบายการบริหารจัดการด้าน IT Risk (IT risk management policy) เป็นลายลักษณ์อักษร โดยต้องได้รับความเห็นชอบจากคณะกรรมการของผู้ประกอบธุรกิจหรือคณะกรรมการที่ได้รับมอบหมายจากคณะกรรมการของผู้ประกอบธุรกิจ อย่างน้อยต้องครอบคลุมในเรื่องดังนี้ (1) บทบาทหน้าที่ของผู้ที่เกี่ยวข้องในการบริหารจัดการด้าน IT Risk (2) กระบวนการบริหารจัดการด้าน IT Risk เพื่อให้อยู่ในระดับที่องค์กรยอมรับได้ | J20: H | K20: 1. สอบทาน “นโยบายการบริหารจัดการด้าน IT Risk (IT risk management policy)” เพื่อให้มั่นใจว่านโยบายที่เกี่ยวข้องกับการกำกับดูแลด้าน IT Risk มีเนื้อหาครอบคลุมอย่างน้อย ดังนี้ (1) บทบาทหน้าที่ของผู้ที่เกี่ยวข้องในการบริหารจัดการ IT Risk (2) กระบวนการบริหารจัดการด้าน IT Risk เพื่อให้อยู่ในระดับที่องค์กรยอมรับได้ | M20: =IFERROR(IF(N5="Maturity",HLOOKUP(L5,$O$2:$S$200,ROW()-1,0),"N/A"),"") -> N/A | N20: Yes/Partial/No | O20: N/A | P20: N/A | Q20: N/A | R20: N/A | S20: N/A | T20: =IF(OR(L20="Yes",L20="M3",L20="M4",L20="M5"),3,IF(OR(L20="Partial",L20="M2"),2,IF(L20="N/A",0,1))) -> 1 | U20: =IF(L20="M4",1,IF(L20="M5",2,0)) -> 0 | V20: =T20+U20 -> 1 | W20: =IF(ISBLANK(L20),1,0) -> 1
A21: D1 #14 | B21: x | C21: x | D21: x | F21: 2.2.1(2) | G21: 1 | H21: 2.2.1(2) #1 | I21: มีการจัดทำเกณฑ์ความเสี่ยง (risk criteria) ที่ครอบคลุมถึงโอกาสหรือความถี่ที่จะเกิดเหตุการณ์ความเสี่ยง และความมีนัยสำคัญหรือผลกระทบที่จะเกิดขึ้นเพื่อจัดลำดับความสำคัญในการบริหารจัดการความเสี่ยง | J21: M | K21: 1. สอบทาน นโยบายการบริหารจัดการด้าน IT Risk (IT risk management policy ในหัวข้อ "เกณฑ์ความเสี่ยง (risk criteria)" เพื่อให้มั่นใจว่าเกณฑ์ครอบคลุมถึงโอกาสหรือความถี่ที่จะเกิดเหตุการณ์ความเสี่ยง (likelihood) และความมีนัยสำคัญหรือผลกระทบที่จะเกิดขึ้นเพื่อจัดลำดับความสำคัญในการบริหารจัดการความเสี่ยง (impact) | M21: =IFERROR(IF(N5="Maturity",HLOOKUP(L5,$O$2:$S$200,ROW()-1,0),"N/A"),"") -> N/A | N21: Yes/Partial/No | O21: N/A | P21: N/A | Q21: N/A | R21: N/A | S21: N/A | T21: =IF(OR(L21="Yes",L21="M3",L21="M4",L21="M5"),3,IF(OR(L21="Partial",L21="M2"),2,IF(L21="N/A",0,1))) -> 1 | U21: =IF(L21="M4",1,IF(L21="M5",2,0)) -> 0 | V21: =T21+U21 -> 1 | W21: =IF(ISBLANK(L21),1,0) -> 1
A22: D1 #15 | B22: x | C22: x | D22: x | F22: 2.2.1(2) | G22: 2 | H22: 2.2.1(2) #2 | I22: มีการกำหนดระดับความเสี่ยงที่ยอมรับได้ (IT risk appetite) ที่ผ่านการพิจารณาโดยคณะกรรมการบริหารความเสี่ยง (ถ้ามี) และได้รับการอนุมัติจากคณะกรรมการของผู้ประกอบธุรกิจ ทั้งนี้ ระดับความเสี่ยงที่ยอมรับได้ควรสอดคล้องกับการบริหารและจัดการความเสี่ยงขององค์กร (enterprise risk management) (ถ้ามี) | J22: M | K22: 1. สอบทาน นโยบายการบริหารจัดการด้าน IT Risk (IT risk management policy ในหัวข้อ "ระดับความเสี่ยงที่ยอมรับได้ (IT risk appetite)" เพื่อให้มั่นใจว่าผ่านการพิจารณาโดยคณะกรรมการบริหารความเสี่ยง (ถ้ามี) และได้รับการอนุมัติจากคณะกรรมการของผู้ประกอบธุรกิจ ทั้งนี้ ระดับความเสี่ยงที่ยอมรับได้ควรสอดคล้องกับการบริหารและจัดการความเสี่ยงขององค์กร (enterprise risk management) (ถ้ามี) | M22: =IFERROR(IF(N5="Maturity",HLOOKUP(L5,$O$2:$S$200,ROW()-1,0),"N/A"),"") -> N/A | N22: Yes/Partial/No | O22: N/A | P22: N/A | Q22: N/A | R22: N/A | S22: N/A | T22: =IF(OR(L22="Yes",L22="M3",L22="M4",L22="M5"),3,IF(OR(L22="Partial",L22="M2"),2,IF(L22="N/A",0,1))) -> 1 | U22: =IF(L22="M4",1,IF(L22="M5",2,0)) -> 0 | V22: =T22+U22 -> 1 | W22: =IF(ISBLANK(L22),1,0) -> 1
A23: D1 #16 | B23: x | C23: x | D23: x | F23: 2.2.1(2) | G23: 3 | H23: 2.2.1(2) #3 | I23: มีการจัดทำกระบวนการบริหารจัดการด้าน IT Risk และมีการประเมินความเสี่ยงอย่างน้อยปีละ 1 ครั้ง และเมื่อมีการเปลี่ยนแปลงระบบ IT อย่างมีนัยสำคัญ โดยมีรายละเอียดอย่างน้อย ดังนี้ (1) การระบุความเสี่ยง (risk identification) (2) การวิเคราะห์ความเสี่ยง (risk analysis) (3) การประเมินค่าความเสี่ยง (risk evaluation) (4) การจัดการความเสี่ยง (risk treatment) (5) การจัดทำทะเบียนความเสี่ยง (risk register) (6) การติดตามและทบทวนความเสี่ยง (risk monitor and review) (7) การรายงานความเสี่ยง (risk reporting) | J23: H | K23: 1. สอบทาน "นโยบายการบริหารจัดการด้าน IT Risk (IT risk management policy)" เพื่อให้มั่นใจว่ามีการประเมินความเสี่ยงอย่างน้อยปีละ 1 ครั้ง เมื่อมีการเปลี่ยนแปลงระบบ IT อย่างมีนัยสำคัญ และมีการจัดทำนโยบายดังกล่าวเพื่อให้ครอบคลุมหัวข้อที่สำคัญอย่างน้อยในเรื่องดังต่อไปนี้ (1) การระบุความเสี่ยง (risk identification) (2) การวิเคราะห์ความเสี่ยง (risk analysis) (3) การประเมินค่าความเสี่ยง (risk evaluation) (4) การจัดการความเสี่ยง (risk treatment) (5) การจัดทำทะเบียนความเสี่ยง (risk register) (6) การติดตามและทบทวนความเสี่ยง (risk monitor and review) (7) การรายงานความเสี่ยง (risk reporting) | M23: =IFERROR(IF(N5="Maturity",HLOOKUP(L5,$O$2:$S$200,ROW()-1,0),"N/A"),"") -> N/A | N23: Yes/Partial/No | O23: N/A | P23: N/A | Q23: N/A | R23: N/A | S23: N/A | T23: =IF(OR(L23="Yes",L23="M3",L23="M4",L23="M5"),3,IF(OR(L23="Partial",L23="M2"),2,IF(L23="N/A",0,1))) -> 1 | U23: =IF(L23="M4",1,IF(L23="M5",2,0)) -> 0 | V23: =T23+U23 -> 1 | W23: =IF(ISBLANK(L23),1,0) -> 1
A24: D1 #17 | B24: x | C24: x | D24: x | F24: 2.2.1(2) | G24: 3 | H24: 2.2.1(2) #3 | I24: การระบุความเสี่ยง (risk identification) จัดให้มีการระบุเหตุการณ์ความเสี่ยง (risk scenario) ด้าน IT ที่อาจจะเกิดขึ้นหรือที่เคยเกิดขึ้นจริงกับผู้ประกอบธุรกิจเอง หรือเกิดกับผู้อื่นที่ใช้งาน IT ในลักษณะเดียวกัน รวมถึงภัยคุกคามทางไซเบอร์และช่องโหว่ต่าง ๆ ที่ส่งผลกระทบต่อการดำเนินธุรกิจ โดยเหตุการณ์ความเสี่ยงดังกล่าวอาจมีสาเหตุมาจากปัจจัยภายใน (internal factor) เช่น กระบวนการปฏิบัติงาน ระบบงาน บุคลากร เป็นต้น รวมถึงปัจจัยภายนอกอื่น ๆ (external factor) เช่น การปฏิบัติตามกฎหมาย การใช้บริการ การเชื่อมต่อ หรือการเข้าถึงข้อมูลจากบุคคลภายนอก เป็นต้น | J24: M | K24: 1. สอบทาน "ทะเบียนความเสี่ยง (risk register)" เพื่อให้มั่นใจว่ามีการระบุเหตุการณ์ความเสี่ยง (risk scenario) ครอบคลุมเหตุการณืที่อาจจะเกิดขึ้นหรือที่เคยเกิดขึ้นจริงกับผู้ประกอบธุรกิจเอง หรือเกิดกับผู้อื่นที่ใช้งาน IT ในลักษณะเดียวกัน รวมถึงภัยคุกคามทางไซเบอร์และช่องโหว่ต่าง ๆ อันมีสาเหตุมาจากทั้งปัจจัยภายในและภายนอก | M24: =IFERROR(IF(N5="Maturity",HLOOKUP(L5,$O$2:$S$200,ROW()-1,0),"N/A"),"") -> N/A | N24: Yes/Partial/No | O24: N/A | P24: N/A | Q24: N/A | R24: N/A | S24: N/A | T24: =IF(OR(L24="Yes",L24="M3",L24="M4",L24="M5"),3,IF(OR(L24="Partial",L24="M2"),2,IF(L24="N/A",0,1))) -> 1 | U24: =IF(L24="M4",1,IF(L24="M5",2,0)) -> 0 | V24: =T24+U24 -> 1 | W24: =IF(ISBLANK(L24),1,0) -> 1
A25: D1 #18 | B25: x | C25: x | D25: x | F25: 2.2.1(2) | G25: 3 | H25: 2.2.1(2) #3 | I25: การวิเคราะห์ความเสี่ยง (risk analysis) จัดให้มีการวิเคราะห์ IT Risk เพื่อหาแนวทางในการจัดการความเสี่ยงอย่างเหมาะสม โดยครอบคลุมการดำเนินการอย่างน้อย ดังนี้ (1) กำหนดผู้รับผิดชอบต่อความเสี่ยง หรือเจ้าของความเสี่ยง (risk owner) (2) ระบุการควบคุมที่มีอยู่ในปัจจุบัน (existing control) (3) วิเคราะห์โอกาสหรือความถี่ที่จะเกิดเหตุการณ์ความเสี่ยง (likelihood) และความมีนัยสำคัญหรือผลกระทบที่จะเกิดขึ้น (potential impact) จากเหตุการณ์ดังกล่าว | J25: M | K25: 1. สอบทาน "ทะเบียนความเสี่ยง (risk register)" เพื่อให้มั่นใจว่ามีการวิเคราะห์ IT Risk อย่างเหมาะสมโดยพิจารณาดังนี้ (1) มีการกำหนดผู้รับผิดชอบต่อความสี่ยง หรือเจ้าของความเสี่ยง (risk owner) ครบทุกเหตุการณ์ความเสี่ยง (Risk Scenario) (2) มีการระบุการควบคุมที่มีอยู่ในปัจจุบัน (existing control) (3) มีการวิเคราะห์โอกาสหรือความถี่ที่จะเกิดเหตุการณ์ความเสี่ยง (likelihood) และความมีนัยสำคัญหรือผลกระทบที่จะเกิดขึ้น (potential impact) จากเหตุการณ์ดังกล่าวโดยอ้างอิงเกณฑ์ความเสี่ยง (risk criteria) ของบริษัท | M25: =IFERROR(IF(N5="Maturity",HLOOKUP(L5,$O$2:$S$200,ROW()-1,0),"N/A"),"") -> N/A | N25: Yes/Partial/No | O25: N/A | P25: N/A | Q25: N/A | R25: N/A | S25: N/A | T25: =IF(OR(L25="Yes",L25="M3",L25="M4",L25="M5"),3,IF(OR(L25="Partial",L25="M2"),2,IF(L25="N/A",0,1))) -> 1 | U25: =IF(L25="M4",1,IF(L25="M5",2,0)) -> 0 | V25: =T25+U25 -> 1 | W25: =IF(ISBLANK(L25),1,0) -> 1
A26: D1 #19 | B26: x | C26: x | D26: x | F26: 2.2.1(2) | G26: 3 | H26: 2.2.1(2) #3 | I26: การประเมินค่าความเสี่ยง (risk evaluation) จัดให้มีประเมินค่า IT Risk เพื่อจัดลำดับในการบริหารความเสี่ยงอย่างเหมาะสม โดยครอบคลุมการดำเนินการอย่างน้อย ดังนี้ (1) ประเมินผลลัพธ์ที่ได้จากการวิเคราะห์ความเสี่ยง ได้แก่ ค่าโอกาสและผลกระทบ (likelihood และ potential impact) กับเกณฑ์ความเสี่ยง (risk criteria) ที่กำหนดไว้ เพื่อระบุระดับค่าความเสี่ยงของแต่ละเหตุการณ์ด้าน IT Risk (2) จัดลำดับด้าน IT Risk | J26: M | K26: 1. สอบทาน นโยบายการบริหารจัดการด้าน IT Risk (IT risk management policy และ "เอกสารผลการประเมินด้าน IT Risk" ที่เกี่ยวข้องกับ " การประเมินค่าความเสี่ยง (risk evaluation)" เพื่อให้มั่นใจว่า มีการประเมินค่าด้าน IT Risk เพื่อจัดลำดับในการบริหารความเสี่ยงอย่างเหมาะสม โดยครอบคลุมการดำเนินการอย่างน้อย ดังนี้ (1) ประเมินผลลัพธ์ที่ได้จากการวิเคราะห์ความเสี่ยง ได้แก่ ค่าโอกาสและผลกระทบ (likelihood และ potential impact) กับเกณฑ์ความเสี่ยง (risk criteria) ที่กำหนดไว้ เพื่อระบุระดับค่าความเสี่ยงของแต่ละเหตุการณ์ IT Risk (2) จัดลำดับด้าน IT Risk 2. สอบทาน "ทะเบียนความเสี่ยง (risk register)" เพื่อให้มั่นใจว่ามีการประเมินค่า IT Risk เพื่อจัดลำดับในการบริหารความเสี่ยงอย่างเหมาะสม โดยพิจารณาดังนี้ (1) มีการประเมินผลลัพธ์ที่ได้จากการวิเคราะห์ความเสี่ยง เพื่อระบุระดับค่าความเสี่ยงของแต่ละเหตุการณ์ IT Risk (2) มีการจัดลำดับด้าน IT Risk | M26: =IFERROR(IF(N5="Maturity",HLOOKUP(L5,$O$2:$S$200,ROW()-1,0),"N/A"),"") -> N/A | N26: Yes/Partial/No | O26: N/A | P26: N/A | Q26: N/A | R26: N/A | S26: N/A | T26: =IF(OR(L26="Yes",L26="M3",L26="M4",L26="M5"),3,IF(OR(L26="Partial",L26="M2"),2,IF(L26="N/A",0,1))) -> 1 | U26: =IF(L26="M4",1,IF(L26="M5",2,0)) -> 0 | V26: =T26+U26 -> 1 | W26: =IF(ISBLANK(L26),1,0) -> 1
A27: D1 #20 | B27: x | F27: 2.2.1(2) | G27: 4 | H27: 2.2.1(2) #4 | I27: มีการประเมินด้าน IT Risk ให้เท่าทันต่อการเปลี่ยนแปลงความเสี่ยงขององค์กร (company risk profile) อันอาจจะเกิดจากปัจจัยทั้งภายในและภายนอกองค์กร เช่น การออกผลิตภัณฑ์ใหม่ การเปลี่ยนแปลงมาตรฐานและข้อกำหนดทางด้าน IT ในอุตสาหกรรม หรือการตรวจพบหรือมีข้อบ่งชี้ด้านความเสี่ยงทางด้าน IT ใหม่เกิดขึ้น เป็นต้น | J27: M | K27: 1. สอบทาน นโยบายการบริหารจัดการด้าน IT Risk (IT risk management policy) หรือวิธีปฏิบัติในการบริหารจัดการความเสี่ยง เพื่อให้มั่นใจว่า บริษัทจัดให้มีการประเมินด้าน IT Risk ให้เท่าทันต่อการเปลี่ยนแปลงความเสี่ยงขององค์กร (company risk profile) อันอาจจะเกิดจากปัจจัยทั้งภายในและภายนอกองค์กร เช่น การออกผลิตภัณฑ์ใหม่ การเปลี่ยนแปลงมาตรฐานและข้อกำหนดทางด้าน IT ในอุตสาหกรรม หรือการตรวจพบหรือมีข้อบ่งชี้ด้านความเสี่ยงทางด้าน IT ใหม่เกิดขึ้น เป็นต้น | M27: =IFERROR(IF(N5="Maturity",HLOOKUP(L5,$O$2:$S$200,ROW()-1,0),"N/A"),"") -> N/A | N27: Yes/Partial/No | O27: N/A | P27: N/A | Q27: N/A | R27: N/A | S27: N/A | T27: =IF(OR(L27="Yes",L27="M3",L27="M4",L27="M5"),3,IF(OR(L27="Partial",L27="M2"),2,IF(L27="N/A",0,1))) -> 1 | U27: =IF(L27="M4",1,IF(L27="M5",2,0)) -> 0 | V27: =T27+U27 -> 1 | W27: =IF(ISBLANK(L27),1,0) -> 1
A28: D1 #21 | B28: x | C28: x | D28: x | F28: 2.2.1(2) | G28: 5 | H28: 2.2.1(2) #5 | I28: การจัดการความเสี่ยง (risk treatment) มีการกำหนดให้มีแนวทางในการจัดการด้าน IT Risk อย่างเหมาะสมและสอดคล้องกับผลการประเมินความเสี่ยง (risk assessment) เพื่อให้ความเสี่ยงที่เหลืออยู่ (residual risk) อยู่ในระดับความเสี่ยงที่ยอมรับได้ (risk appetite) โดยครอบคลุมการดำเนินการอย่างน้อย ดังนี้ (1) การกำหนดแนวทางในการจัดการความเสี่ยง โดยพิจารณาถึงความคุ้มค่าและวิธีการที่เหมาะสมกับผู้ประกอบธุรกิจ เช่น การหยุดหรือหลีกเลี่ยงความเสี่ยง (risk avoidance) การลดหรือบรรเทาความเสี่ยง (risk mitigation) การโอนย้ายความเสี่ยงให้กับผู้อื่น (risk transference) และการยอมรับความเสี่ยงโดยการเสนอเหตุผลผู้บริหารเพื่อตัดสินใจ (risk acceptance) เป็นต้น (2) การระบุรายละเอียดของงานที่ต้องดำเนินการ ผู้รับผิดชอบ และระยะเวลาที่ใช้ในการดำเนินการ (3) การประเมินระดับค่าความเสี่ยงที่เหลืออยู่ (residual risk) ว่าอยู่ในระดับความเสี่ยงที่ยอมรับได้ (4) การขออนุมัติแผนการบริหารจัดการความเสี่ยงจากคณะกรรมการหรือผู้บริหารระดับสูงที่ได้รับมอบหมาย (5) การสื่อสารแผนการบริหารจัดการความเสี่ยงให้ผู้ที่เกี่ยวข้องรับทราบ | J28: M | K28: 1. สอบทาน นโยบายการบริหารจัดการด้าน IT Risk (IT risk management policy และ "เอกสารผลการประเมินด้าน IT Risk" ที่เกี่ยวข้องกับ "การจัดการความเสี่ยง (risk treatment)" เพื่อให้มั่นใจว่า มีแนวทางในการจัดการด้าน IT Risk อย่างเหมาะสมและสอดคล้องกับผลการประเมินความเสี่ยง (risk assessment) หลังได้รับการรับรองจากเจ้าของความเสี่ยง เพื่อให้ความเสี่ยงที่เหลืออยู่ (residual risk) อยู่ในระดับความเสี่ยงที่ยอมรับได้ (risk appetite) โดยครอบคลุมการดำเนินการอย่างน้อย ดังนี้ (1) การกำหนดแนวทางในการจัดการความเสี่ยง โดยพิจารณาถึงความคุ้มค่าและวิธีการที่เหมาะสมกับผู้ประกอบธุรกิจ (2) การระบุรายละเอียดของงานที่ต้องดำเนินการ ผู้รับผิดชอบ และระยะเวลาที่ใช้ในการดำเนินการ (3) การประเมินระดับค่าความเสี่ยงที่เหลืออยู่ (residual risk) ว่าอยู่ในระดับความเสี่ยงที่ยอมรับได้ (4) การขออนุมัติแผนการบริหารจัดการความเสี่ยงจากคณะกรรมการหรือผู้บริหารระดับสูงที่ได้รับมอบหมาย (5) การสื่อสารแผนการบริหารจัดการความเสี่ยงให้ผู้ที่เกี่ยวข้องรับทราบ 2. สอบทาน "ทะเบียนความเสี่ยง (risk register)" หรือเอกสารเกี่ยวกับแผนการจัดการความเสี่ยง (risk treatment plan) เพื่อให้มั่นใจว่ามีการจัดการด้าน IT Risk อย่างเหมาะสมและสอดคล้องกับผลการประเมินความเสี่ยง (risk assessment) เพื่อให้ความเสี่ยงที่เหลืออยู่ (residual risk) อยู่ในระดับความเสี่ยงที่ยอมรับได้ (risk appetite) โดยพิจารณาดังนี้ (1) มีการกำหนดแนวทางในการจัดการความเสี่ยง โดยพิจารณาถึงความคุ้มค่าและวิธีการที่เหมาะสมกับผู้ประกอบธุรกิจ เช่น การหยุดหรือหลีกเลี่ยงความเสี่ยง (risk avoidance) การลดหรือบรรเทาความเสี่ยง (risk mitigation) การโอนย้ายความเสี่ยงให้กับผู้อื่น (risk transference) และการยอมรับความเสี่ยงโดยการเสนอเหตุผลผู้บริหารเพื่อตัดสินใจ (risk acceptance) เป็นต้น (2) มีการระบุรายละเอียดของงานที่ต้องดำเนินการ ผู้รับผิดชอบ และระยะเวลาที่ใช้ในการดำเนินการ (3) มีการประเมินระดับค่าความเสี่ยงที่เหลืออยู่ (residual risk) ว่าอยู่ในระดับความเสี่ยงที่ยอมรับได้ (4) มีการขออนุมัติแผนการบริหารจัดการความเสี่ยงจากคณะกรรมการหรือผู้บริหารระดับสูงที่ได้รับมอบหมาย (5) มีการสื่อสารแผนการบริหารจัดการความเสี่ยงให้ผู้ที่เกี่ยวข้องรับทราบ | M28: =IFERROR(IF(N5="Maturity",HLOOKUP(L5,$O$2:$S$200,ROW()-1,0),"N/A"),"") -> N/A | N28: Yes/Partial/No | O28: N/A | P28: N/A | Q28: N/A | R28: N/A | S28: N/A | T28: =IF(OR(L28="Yes",L28="M3",L28="M4",L28="M5"),3,IF(OR(L28="Partial",L28="M2"),2,IF(L28="N/A",0,1))) -> 1 | U28: =IF(L28="M4",1,IF(L28="M5",2,0)) -> 0 | V28: =T28+U28 -> 1 | W28: =IF(ISBLANK(L28),1,0) -> 1
A29: D1 #22 | B29: x | C29: x | D29: x | F29: 2.2.1(2) | G29: 6 | H29: 2.2.1(2) #6 | I29: การจัดทำทะเบียนความเสี่ยง (risk register) ควรจัดให้มีทะเบียนความเสี่ยง (risk register) เพื่อบันทึกผลการประเมินความเสี่ยง และแนวทางในการจัดการความเสี่ยง โดยมีตัวอย่างรายละเอียด ดังนี้ (1) วันที่ประเมินความเสี่ยง (2) รายละเอียดเหตุการณ์ความเสี่ยง (3) โอกาสหรือความถี่ที่จะเกิดเหตุการณ์ความเสี่ยง (likelihood) (4) ความมีนัยสำคัญหรือผลกระทบที่จะเกิดขึ้น (potential impact) (5) ระดับค่าความเสี่ยงก่อนการควบคุม (inherent risk) (6) แนวทางจัดการความเสี่ยง (risk treatment) (7) เจ้าของความเสี่ยง (risk owner) (8) ระดับความเสี่ยงที่เหลืออยู่ (residual risk) (9) สถานะของการจัดการความเสี่ยง (status of risk treatment) | J29: H | K29: 1. สอบทาน "เอกสารผลการประเมินด้าน IT Risk" หรือ "ทะเบียนความเสี่ยง (risk register)" เพื่อให้มั่นใจว่า มีการบันทึกผลการประเมินความเสี่ยง และแนวทางในการจัดการความเสี่ยง โดยมีตัวอย่างรายละเอียด ดังนี้ (1) วันที่ประเมินความเสี่ยง (2) รายละเอียดเหตุการณ์ความเสี่ยง (3) โอกาสหรือความถี่ที่จะเกิดเหตุการณ์ความเสี่ยง (likelihood) (4) ความมีนัยสำคัญหรือผลกระทบที่จะเกิดขึ้น (potential impact) (5) ระดับค่าความเสี่ยงก่อนการควบคุม (inherent risk) (6) แนวทางจัดการความเสี่ยง (risk treatment) (7) เจ้าของความเสี่ยง (risk owner) (8) ระดับความเสี่ยงที่เหลืออยู่ (residual risk) (9) สถานะของการจัดการความเสี่ยง (status of risk treatment) | M29: =IFERROR(IF(N5="Maturity",HLOOKUP(L5,$O$2:$S$200,ROW()-1,0),"N/A"),"") -> N/A | N29: Yes/Partial/No | O29: N/A | P29: N/A | Q29: N/A | R29: N/A | S29: N/A | T29: =IF(OR(L29="Yes",L29="M3",L29="M4",L29="M5"),3,IF(OR(L29="Partial",L29="M2"),2,IF(L29="N/A",0,1))) -> 1 | U29: =IF(L29="M4",1,IF(L29="M5",2,0)) -> 0 | V29: =T29+U29 -> 1 | W29: =IF(ISBLANK(L29),1,0) -> 1
A30: D1 #23 | B30: x | C30: x | D30: x | F30: 2.2.1(2) | G30: 7 | H30: 2.2.1(2) #7 | I30: การติดตามและทบทวนความเสี่ยง (risk monitor and review) ควรจัดให้มีกระบวนการติดตามและทบทวน IT Risk โดยครอบคลุมการดำเนินการ ดังนี้ (1) การกำหนดผู้รับผิดชอบในการติดตามและทบทวนความเสี่ยง (2) การกำหนดดัชนีชี้วัดด้าน IT Risk ที่สำคัญ (IT key risk indicator) เพื่อให้สามารถติดตามแนวโน้มของ ความเสี่ยง และสามารถทบทวนมาตรการควบคุมความเสี่ยงได้อย่างมีประสิทธิภาพ (3) การติดตามความคืบหน้าของการดำเนินงานตามแผนการบริหารจัดการด้าน IT Risk | J30: M | K30: 1. สอบทาน "นโยบายการบริหารจัดการด้าน IT Risk (IT risk management policy)" เพื่อให้มั่นใจว่า มีกระบวนการติดตามและทบทวน IT Risk โดยครอบคลุมการดำเนินการ ดังนี้ (1) การกำหนดผู้รับผิดชอบในการติดตามและทบทวนความเสี่ยง (2) การติดตามความคืบหน้าของการดำเนินงานตามแผนการบริหารจัดการด้าน IT Risk 2. สอบทาน "หลักฐานการติดตามและทบทวนความเสี่ยง" เช่น "ดัชนีชี้วัดด้าน IT Risk ที่สำคัญ (IT key risk indicator)" เป็นต้น เพื่อให้มั่นใจว่าบริษัทมีการติดตามและทบทวนความเสี่ยงตามนโยบายที่กำหนดไว้ | M30: =IFERROR(IF(N5="Maturity",HLOOKUP(L5,$O$2:$S$200,ROW()-1,0),"N/A"),"") -> N/A | N30: Yes/Partial/No | O30: N/A | P30: N/A | Q30: N/A | R30: N/A | S30: N/A | T30: =IF(OR(L30="Yes",L30="M3",L30="M4",L30="M5"),3,IF(OR(L30="Partial",L30="M2"),2,IF(L30="N/A",0,1))) -> 1 | U30: =IF(L30="M4",1,IF(L30="M5",2,0)) -> 0 | V30: =T30+U30 -> 1 | W30: =IF(ISBLANK(L30),1,0) -> 1
A31: D1 #24 | B31: x | C31: x | D31: x | F31: 2.2.1(2) | G31: 8 | H31: 2.2.1(2) #8 | I31: การรายงานความเสี่ยง (risk reporting) ควรจัดให้มีการรายงานผลการประเมิน IT Risk และผลการบริหารจัดการ IT Risk ต่อคณะกรรมการของผู้ประกอบธุรกิจอย่างน้อยปีละ 1 ครั้ง | J31: M | K31: 1. สอบทาน "รายงานผลการประเมินความเสี่ยง" และ "รายงานผลการบริหารจัดการความเสี่ยง" เพื่อให้มั่นใจว่ามีการรายงานผลการประเมินด้าน IT Risk และผลการบริหารจัดการ IT Risk ต่อคณะกรรมการของผู้ประกอบธุรกิจ หรือ (ถ้ามี) คณะกรรมการตรวจสอบ อย่างน้อยปีละ 1 ครั้ง | M31: =IFERROR(IF(N5="Maturity",HLOOKUP(L5,$O$2:$S$200,ROW()-1,0),"N/A"),"") -> N/A | N31: Yes/Partial/No | O31: N/A | P31: N/A | Q31: N/A | R31: N/A | S31: N/A | T31: =IF(OR(L31="Yes",L31="M3",L31="M4",L31="M5"),3,IF(OR(L31="Partial",L31="M2"),2,IF(L31="N/A",0,1))) -> 1 | U31: =IF(L31="M4",1,IF(L31="M5",2,0)) -> 0 | V31: =T31+U31 -> 1 | W31: =IF(ISBLANK(L31),1,0) -> 1
A32: D1 #25 | B32: x | C32: x | D32: x | F32: 2.2.2 | H32: 2.2.2 | I32: นโยบายการรักษาความมั่นคงปลอดภัยด้าน IT (IT security policy) อย่างน้อยต้องครอบคลุมในเรื่องดังนี้ (1) โครงสร้างการบริหารงานเพื่อการรักษาความมั่นคงปลอดภัยด้าน IT (2) การบริหารจัดการบุคลากรที่ปฏิบัติงานด้าน IT หรือบุคคลภายนอก (3) การบริหารจัดการทรัพย์สินด้าน IT (4) การรักษาความมั่นคงปลอดภัยของข้อมูล (5) การควบคุมการเข้าถึงและระบบ IT (6) การควบคุมการเข้ารหัส (7) การรักษาความมั่นคงปลอดภัยทางกายภาพและสภาพแวดล้อม (8) มาตรการรักษาความมั่นคงปลอดภัยในการปฏิบัติงานด้าน IT (9) มาตรการรักษาความมั่นคงปลอดภัยเกี่ยวกับระบบเครือข่ายสื่อสาร (10) การบริหารจัดการโครงการด้าน IT และการจัดหา พัฒนาและบำรุงรักษาระบบ IT (11) การบริหารจัดการเหตุการณ์ผิดปกติด้าน IT และปัญหาด้าน IT (12) การจัดทำแผนฉุกเฉินด้าน IT | J32: H | K32: 1. สอบทาน “นโยบายการรักษาความมั่นคงปลอดภัยด้าน IT (IT security policy)” เพื่อให้มั่นใจว่ามีการจัดทำครอบคลุมทั้ง 12 หัวข้อ อย่างเป็นลายลักษณ์อักษร และได้รับการอนุมัติโดยคณะกรรมการของผู้ประกอบธุรกิจ หรือคณะกรรมการที่ได้รับมอบหมายจากคณะกรรมการของผู้ประกอบธุรกิจ | M32: =IFERROR(IF(N5="Maturity",HLOOKUP(L5,$O$2:$S$200,ROW()-1,0),"N/A"),"") -> N/A | N32: Yes/Partial/No | O32: N/A | P32: N/A | Q32: N/A | R32: N/A | S32: N/A | T32: =IF(OR(L32="Yes",L32="M3",L32="M4",L32="M5"),3,IF(OR(L32="Partial",L32="M2"),2,IF(L32="N/A",0,1))) -> 1 | U32: =IF(L32="M4",1,IF(L32="M5",2,0)) -> 0 | V32: =T32+U32 -> 1 | W32: =IF(ISBLANK(L32),1,0) -> 1
A33: D1 #26 | B33: x | C33: x | D33: x | F33: 2.3.1 | G33: 1 | H33: 2.3.1 #1 | I33: มีกระบวนการสื่อสารสร้างความตระหนักและทราบถึงนโยบายการบริหารจัดการ IT Risk และนโยบายการรักษาความมั่นคงปลอดภัยด้าน IT ของบริษัท เพื่อให้มั่นใจว่าพนักงานในบริษัท รวมถึงผู้ที่เกี่ยวข้องรับทราบตามบทบาทหน้าที่ ความรับผิดชอบ และสิทธิการเข้าถึงข้อมูล ในลักษณะที่สามารถเข้าถึงได้ง่าย และจะปฏิบัติตามนโยบายดังกล่าว ของบริษัท เช่น การลงนามรับทราบ การอบรม หรือ การตอบรับต่างๆ ให้แก่บุคคลที่เกี่ยวข้องรับทราบ | J33: M | K33: 1. สัมภาษณ์ผู้บริหารด้าน IT คณะกรรมการของผู้ประกอบธุรกิจหรือคณะกรรมการที่ได้รับมอบหมายจากคณะกรรมการของผู้ประกอบธุรกิจ เกี่ยวกับการสื่อสารและสร้างความตระหนักถึงการปฏิบัติตามนโยบายในการกำกับดูแลและบริหารจัดการ IT เพื่อให้มั่นใจว่ามีการสื่อสารนโยบายให้บุคคลที่เกี่ยวข้องเข้าใจและสามารถปฏิบัติตามนโยบายฯ ได้อย่างถูกต้อง 2. สอบทานเอกสารการประกาศใช้งานนโยบายในการกำกับดูแลและบริหารจัดการ IT ประกอบด้วย (1) นโยบายการบริหารจัดการ IT Risk (IT risk management policy) (2) นโยบายการรักษาความมั่นคงปลอดภัยด้าน IT (IT security policy) 3. สอบทาน “หลักฐานการรับทราบนโยบายการกำกับดูแลและบริหารจัดการ IT ของบริษัท” เพื่อให้มั่นใจว่าพนักงานในบริษัท รวมถึงผู้ที่เกี่ยวข้องรับทราบนโยบายและยอมรับที่จะปฏิบัติตามนโยบายดังกล่าว ตามบทบาทหน้าที่ ความรับผิดชอบ และสิทธิการเข้าถึงข้อมูล เช่น เอกสารลงนามในกรณีเป็นการลงนามรับทราบ เอกสารลงนามเข้าอบรมในกรณีเป็นการสื่อสารผ่านการอบรม อีเมลหรือรายงานทางอิเล็กทรอนิกส์ ในกรณีเป็นการตอบรับผ่านอีเมล หรือ เวบไซต์ภายในองค์กร ฯลฯ | M33: =IFERROR(IF(N5="Maturity",HLOOKUP(L5,$O$2:$S$200,ROW()-1,0),"N/A"),"") -> N/A | N33: Yes/Partial/No | O33: N/A | P33: N/A | Q33: N/A | R33: N/A | S33: N/A | T33: =IF(OR(L33="Yes",L33="M3",L33="M4",L33="M5"),3,IF(OR(L33="Partial",L33="M2"),2,IF(L33="N/A",0,1))) -> 1 | U33: =IF(L33="M4",1,IF(L33="M5",2,0)) -> 0 | V33: =T33+U33 -> 1 | W33: =IF(ISBLANK(L33),1,0) -> 1
A34: D1 #27 | B34: x | C34: x | D34: x | F34: 2.3.1 | G34: 1 | H34: 2.3.1 #1 | I34: สื่อสารนโยบายให้กับบุคคลภายนอก โดยพิจารณาถึงรายละเอียดที่บุคคลภายนอกควรรู้เพื่อให้สามารถปฏิบัติงานได้สอดคล้องกับนโยบายของผู้ประกอบธุรกิจ โดยคำนึงถึงความลับของการเปิดเผยข้อมูลด้วย | J34: M | K34: 1. สัมภาษณ์ คณะกรรมการของผู้ประกอบธุรกิจหรือคณะกรรมการที่ได้รับมอบหมายจากคณะกรรมการของผู้ประกอบธุรกิจ เกี่ยวกับนโยบายการบริหารจัดการ IT Risk และนโยบายการรักษาความมั่นคงปลอดภัยที่บุคคลภายนอกควรรรับทราบ รวมถึงกระบวนการสื่อสารนโยบายไปยังบุคคลดังกล่าว 2. สอบทาน "หลักฐานการสื่อสารนโยบายให้กับบุคคลภายนอก" เช่น ช่องทางอีเมล หรือเอกสารแนบท้ายของสัญญา เป็นต้น | M34: =IFERROR(IF(N5="Maturity",HLOOKUP(L5,$O$2:$S$200,ROW()-1,0),"N/A"),"") -> N/A | N34: Yes/Partial/No | O34: N/A | P34: N/A | Q34: N/A | R34: N/A | S34: N/A | T34: =IF(OR(L34="Yes",L34="M3",L34="M4",L34="M5"),3,IF(OR(L34="Partial",L34="M2"),2,IF(L34="N/A",0,1))) -> 1 | U34: =IF(L34="M4",1,IF(L34="M5",2,0)) -> 0 | V34: =T34+U34 -> 1 | W34: =IF(ISBLANK(L34),1,0) -> 1
A35: D1 #28 | B35: x | C35: x | D35: x | F35: 2.3.2 | G35: 1 | H35: 2.3.2 #1 | I35: มีการจัดทำและอนุมัติรายละเอียดขั้นตอนและวิธีปฏิบัติงานที่เกี่ยวข้องกับระบบ IT เป็นลายลักษณ์อักษร ตามนโยบายการบริหารจัดการด้าน IT Risk และนโยบายการรักษาความมั่นคงปลอดภัยด้าน IT เพื่อให้เจ้าหน้าที่ผู้ปฏิบัติงานด้าน IT สามารถปฏิบัติงานได้อย่างถูกต้อง รวมถึงมีการปรับปรุงขั้นตอนและวิธีปฏิบัติงานให้สอดคล้องกับนโยบายดังกล่าว | J35: M | K35: 1. สอบทานรายละเอียดขั้นตอนและวิธีปฏิบัติงานตามนโยบายการบริหารจัดการ IT Risk และนโยบายการรักษาความมั่นคงปลอดภัยด้าน IT เพื่อให้มั่นใจว่ามีการจัดทำรายละเอียดขั้นตอนและวิธีปฏิบัติงานตามนโยบายการบริหารจัดการ IT Risk และการรักษาความมั่นคงปลอดภัยด้าน IT อย่างเป็นลายลักษณ์อักษรเพียงพอต่อการดำเนินการต่างๆ 2. สอบทานผู้ลงนามอนุมัติรายละเอียดขั้นตอนและวิธีปฏิบัติงานการบริหารจัดการ IT Risk และนโยบายการรักษาความมั่นคงปลอดภัยด้าน IT เพื่อให้มั่นใจว่ารายละเอียดขั้นตอนและวิธีปฏิบัติงานฯ ได้รับการพิจารณาความเหมาะสม และลงนามอนุมัติโดยผู้บริหารที่เกี่ยวข้อง 3. สอบทานวันที่ และ รายละเอียดการปรับปรุงของเอกสารขั้นตอนและวิธีปฏิบัติงาน ที่เกี่ยวข้องกับ นโยบายการบริหารจัดการ IT Risk และนโยบายการรักษาความมั่นคงปลอดภัยด้าน IT ที่มีการเปลี่ยนแปลง เพื่อให้มั่นใจว่ามีการปรับปรุงขั้นตอนและวิธีปฏิบัติงานให้สอดคล้องกับนโยบายฯ ที่มีการเปลี่ยนแปลงและสอดคล้องกับการเปลี่ยนแปลงของความต้องการทางธุรกิจ ภัยคุกคาม เทคโนโลยี และภารกิจขององค์กร | M35: =IFERROR(IF(N5="Maturity",HLOOKUP(L5,$O$2:$S$200,ROW()-1,0),"N/A"),"") -> N/A | N35: Yes/Partial/No | O35: N/A | P35: N/A | Q35: N/A | R35: N/A | S35: N/A | T35: =IF(OR(L35="Yes",L35="M3",L35="M4",L35="M5"),3,IF(OR(L35="Partial",L35="M2"),2,IF(L35="N/A",0,1))) -> 1 | U35: =IF(L35="M4",1,IF(L35="M5",2,0)) -> 0 | V35: =T35+U35 -> 1 | W35: =IF(ISBLANK(L35),1,0) -> 1
A36: D1 #29 | B36: x | C36: x | D36: x | F36: 2.3.2 | G36: 2 | H36: 2.3.2 #2 | I36: กำหนดวิธีปฏิบัติในการขออนุมัติยกเว้น (exception) เพื่อรองรับกรณีผู้ประกอบธุรกิจไม่สามารถปฏิบัติตามนโยบาย ขั้นตอน และวิธีปฏิบัติที่กำหนดไว้ โดยจัดให้มีการประเมินความเสี่ยง กำหนดแนวทางการควบคุมความเสี่ยงอย่างเพียงพอเหมาะสม และขออนุมัติจากผู้มีอำนาจก่อนดำเนินการต่อไป โดยจัดเก็บหลักฐานการอนุมัติยกเว้นดังกล่าวอย่างเป็นลายลักษณ์อักษร * ผู้มีอำนาจในการอนุมัติยกเว้น ไม่ควรเป็นบุคคลที่อาจก่อให้เกิดความขัดแย้งทางผลประโยชน์ (conflict of interest) และการกำหนดผู้มีอำนาจอนุมัติยกเว้น ควรเป็นไปตามหลักการบริหารจัดการความเสี่ยงที่ดี (good governance) ** ผู้ประกอบธุรกิจสามารถให้ผู้บริหารของฝ่ายงาน เช่น Head of IT เป็นต้น เป็นผู้อนุมัติยกเว้นได้ กรณีที่การอนุมัติยกเว้นนั้น ได้รับการประเมินแล้วว่ามีความเสี่ยงต่ำ และผู้บริหารของฝ่ายงานดังกล่าว ได้รับการอนุมัติจากคณะกรรมการหรือผู้บริหารระดับสูงของผู้ประกอบธุรกิจเป็นการล่วงหน้า (pre-authorized) ให้เป็นผู้ที่สามารถอนุมัติยกเว้นข้อกำหนดที่มีความเสี่ยงต่ำได้ โดยผู้ประกอบธุรกิจควรรายงานการอนุมัติยกเว้นดังกล่าวให้คณะกรรมการ หรือผู้บริหารระดับสูงที่เกี่ยวข้องทราบ ตามกรอบระยะเวลาที่เหมาะสม | J36: H | K36: 1. สัมภาษณ์ผู้บริหารด้าน IT เกี่ยวกับกระบวนการขออนุมัติยกเว้น (exception)กรณีไม่สามารถปฏิบัติตามนโยบาย ขั้นตอนและวิธีปฏิบัติที่กำหนดไว้ เพื่อให้มั่นใจว่าการขออนุมัติยกเว้นดังกล่าวได้รับการพิจารณาโดยผู้มีอำนาจอย่างเหมาะสม 2. สอบทาน "วิธีปฏิบัติในการขออนุมัติยกเว้น (exception)" ในรายละเอียดขั้นตอนการปฏิบัติงานเพื่อให้มั่นใจว่า มีการระบุวิธีปฏิบัติในการขออนุมัติยกเว้น (exception) สำหรับกรณีที่มีความจำเป็นไม่สามารถปฏิบัติตามนโยบาย ขั้นตอน และวิธีปฏิบัติที่กำหนดไว้ โดยครอบคลุมถึงการประเมินความเสี่ยง การกำหนดแนวทางการควบคุมความเสี่ยงอย่างเพียงพอและเหมาะสม ได้รับการเห็นและอนุมัติจากผู้มีอำนาจ 3. อ้างอิงจากการตรวจสอบในข้ออื่นๆ หากพบกรณีที่ผู้ประกอบธุรกิจไม่สามารถปฏิบัติตามนโยบาย ขั้นตอน และวิธีปฏิบัติที่กำหนดไว้ ให้สุ่มสอบทาน "เอกสารการขออนุมัติยกเว้น (exception)" ที่ผู้ประกอบธุรกิจจัดทำขึ้น เพื่อให้มั่นใจได้ว่าดำเนินการจัดทำครบถ้วนตามที่ได้กำหนดไว้ในรายละเอียดขั้นตอนการปฏิบัติงาน | M36: =IFERROR(IF(N5="Maturity",HLOOKUP(L5,$O$2:$S$200,ROW()-1,0),"N/A"),"") -> N/A | N36: Yes/Partial/No | O36: N/A | P36: N/A | Q36: N/A | R36: N/A | S36: N/A | T36: =IF(OR(L36="Yes",L36="M3",L36="M4",L36="M5"),3,IF(OR(L36="Partial",L36="M2"),2,IF(L36="N/A",0,1))) -> 1 | U36: =IF(L36="M4",1,IF(L36="M5",2,0)) -> 0 | V36: =T36+U36 -> 1 | W36: =IF(ISBLANK(L36),1,0) -> 1
A37: D1 #30 | B37: x | C37: x | D37: x | F37: 2.3.2 | G37: 3 | H37: 2.3.2 #3 | I37: มีการสอบทานความเหมาะสมของรายการขออนุมัติยกเว้น ตลอดจนแนวทางการควบคุมความเสี่ยงอย่างน้อยปีละ 1 ครั้ง เพื่อทบทวนแนวทางการดำเนินการให้มีความเหมาะสมต่อความเสี่ยงที่อาจมีการเปลี่ยนแปลงไปตามสภาพแวดล้อมการประกอบธุรกิจและการใช้งานเทคโนโลยีสารสนเทศในการประกอบธุรกิจ | J37: H | K37: 1. สอบทานหลักฐานการทบทวนรายการการขออนุมัติยกเว้น (exception) ซึ่งได้รับการอนุมัติจากผู้มีอำนาจ | M37: =IFERROR(IF(N5="Maturity",HLOOKUP(L5,$O$2:$S$200,ROW()-1,0),"N/A"),"") -> N/A | N37: Yes/Partial/No | O37: N/A | P37: N/A | Q37: N/A | R37: N/A | S37: N/A | T37: =IF(OR(L37="Yes",L37="M3",L37="M4",L37="M5"),3,IF(OR(L37="Partial",L37="M2"),2,IF(L37="N/A",0,1))) -> 1 | U37: =IF(L37="M4",1,IF(L37="M5",2,0)) -> 0 | V37: =T37+U37 -> 1 | W37: =IF(ISBLANK(L37),1,0) -> 1
A38: D1 #31 | B38: x | C38: x | D38: x | F38: 2.3.3 | H38: 2.3.3 | I38: มีการสื่อสารให้บุคคลที่เกี่ยวข้องได้รับทราบเกี่ยวกับการเปลี่ยนแปลงนโยบายการบริหารจัดการ IT Risk และนโยบายการรักษาความมั่นคงปลอดภัยด้าน IT อย่างทั่วถึง และมีการปรับปรุงขั้นตอนและวิธีปฏิบัติงานให้สอดคล้องกับการเปลี่ยนแปลงดังกล่าว | J38: M | K38: 1. สัมภาษณ์ผู้บริหารเกี่ยวกับวิธีการสื่อสารนโยบายการบริหารจัดการด้าน IT Risk และนโยบายการรักษาความมั่นคงปลอดภัยด้าน IT เมื่อมีการปรับปรุง (update) นโยบายดังกล่าว 2. สอบทานหลักฐานการสื่อสารนโยบายที่มีการปรับปรุง และเอกสารการรับทราบนโยบายฯ ของพนักงาน เพื่อให้มั่นใจว่าบุคคลที่เกี่ยวข้องได้รับทราบอย่างทั่วถึง 3. สอบทานขั้นตอนการปฏิบัติงานที่เกี่ยวข้อง เพื่อให้มั่นใจว่า มีปรับปรุงขั้นตอนและวิธีปฏิบัติงานให้สอดคล้องกับการเปลี่ยนแปลงดังกล่าว | M38: =IFERROR(IF(N5="Maturity",HLOOKUP(L5,$O$2:$S$200,ROW()-1,0),"N/A"),"") -> N/A | N38: Yes/Partial/No | O38: N/A | P38: N/A | Q38: N/A | R38: N/A | S38: N/A | T38: =IF(OR(L38="Yes",L38="M3",L38="M4",L38="M5"),3,IF(OR(L38="Partial",L38="M2"),2,IF(L38="N/A",0,1))) -> 1 | U38: =IF(L38="M4",1,IF(L38="M5",2,0)) -> 0 | V38: =T38+U38 -> 1 | W38: =IF(ISBLANK(L38),1,0) -> 1
