Workbook

Sheet 1. ข้อมูลบริษัท
H2: Version: | I2: 2569
D3: แบบประเมินระดับความเสี่ยงของผู้ประกอบธุรกิจ (แบบ Risk Level Assessment : RLA) | H3: • แบบ RLA ฉบับปี 2569 เพื่อนำส่งแบบ RLA ภายในวันที่ 31 มีนาคม 2569 ทางระบบ E-Submission • ผลการประเมินแบบ RLA ประจำปี 2569 มีไว้เพื่อให้รับทราบขอบเขตการปฏิบัติตามข้อกำหนด และขอบเขตการตรวจสอบด้าน IT ประจำปี 2569 • ปี 2569 ผู้ประกอบธุรกิจ ทุกราย/ทุกระดับ RLA มีหน้าที่ในการตรวจสอบด้าน IT และนำส่งรายงานต่อสำนักงาน (นำส่งผลการตรวจสอบด้าน IT ปี 2569 ภายในวันที่ 31 มีนาคม 2570)
C5: วิธีการประเมิน ไฟล์นี้ประกอบด้วย 3 Sheet ที่บริษัทต้องกรอกและนำส่งสำนักงาน ก.ล.ต. ได้แก่ (1) ข้อมูลบริษัท (2) แบบประเมิน RLA (3) ข้อมูลเสริม ให้ผู้ประกอบธุรกิจเติมข้อมูลในส่วนช่อง (cell) สีเหลืองทั้งหมด และนำส่งสำนักงานผ่านระบบ e-submission โดยไม่เข้ารหัสของไฟล์/ไม่ใส่ password เพื่อให้ระบบของสำนักงานสามารถนำข้อมูลไปประมวลผลต่อไปได้
B7: ข้อมูลผู้ประกอบธุรกิจ | C7: ชื่อบริษัท (นิติบุคคล) | E7: *สามารถกรอกชื่อบริษัทบางส่วน → กด enter → กด dropdown icon เพื่อค้นหาจาก List รายชื่อได้ **กรณีรายชื่อไม่แสดง กรุณากรอกชื่อบริษัท**
C9: เลขทะเบียนนิติบุคคล | E9: * เลขประจำตัวผู้เสียภาษี 13 หลัก เพื่อการ mapping ข้อมูล
C11: วันที่ทำแบบประเมิน | E11: (วัน/เดือน/ปี ค.ศ.) เช่น 05/01/2025
C13: ชื่อผู้ประสานงาน
C14: ชื่อ-สกุล 1: | E14: ตำแหน่ง: | G14: เบอร์โทรศัพท์: | I14: email:
C15: ชื่อ-สกุล 2: | E15: ตำแหน่ง: | G15: เบอร์โทรศัพท์: | I15: email:
C17: ผู้อนุมัติผลการประเมิน
C18: ชื่อ-สกุล : | E18: ตำแหน่ง: | G18: เบอร์โทรศัพท์: | I18: email:
F19: (คณะกรรมการ หรือผู้ที่ได้รับมอบหมายจากคณะกรรมการของผู้ประกอบธุรกิจ)
F20: หมายเหตุ: หากมีผู้อนุมัติผลการประเมินหลายท่าน เช่น การอนุมัติโดยคณะกรรมการ เป็นต้น ให้กรอกข้อมูลกรรมการท่านใดก็ได้ 1 ท่าน

Sheet 2. แบบประเมิน RLA
A1: แบบประเมินระดับความเสี่ยงของผู้ประกอบธุรกิจ (Risk Level Assessment : RLA) | D1: Version : 2569 (นำส่งสำนักงาน ก.ล.ต. ทางระบบ E-Submission ภายในวันที่ 31 มีนาคม 2569)
A2: วิธีการใช้งาน: ให้ผู้ประกอบธุรกิจเติมข้อมูลในช่อง (cell) สีเหลือง
B3: ส่วนที่ 1: เงื่อนไขการประเมินระดับความเสี่ยง
B4: รายการ | C4: ข้อมูลของผู้ประกอบธุรกิจ | D4: หมายเหตุ
A5: เงื่อนไข 1 | B5: เป็นผู้ประกอบธุรกิจ ดังต่อไปนี้ 1. หน่วยงานที่สำนักงาน ก.ล.ต. กำหนดให้เป็นหน่วยงานโครงสร้างพื้นฐานสำคัญทางสารสนเทศของภาคตลาดทุน (Critical Information Infrastructure: CII) 2. ศูนย์ซื้อขายสัญญาซื้อขายล่วงหน้า, สำนักหักบัญชีสัญญาซื้อขายล่วงหน้า, สำนักหักบัญชีหลักทรัพย์ และศูนย์รับฝากหลักทรัพย์ | C5: ไม่ใช่ | D5: ตอบ "ใช่" เฉพาะบริษัทที่เป็น CII ซึ่งได้รับหนังสือแจ้งจากสำนักงาน ก.ล.ต. เท่านั้น
A6: เงื่อนไข 2 | B6: เป็นผู้ประกอบธุรกิจ ดังต่อไปนี้ 1. ผู้ให้บริการระบบสนับสนุนงานที่เกี่ยวข้องกับการซื้อขายหน่วยลงทุนและการจัดการกองทุน (ประกาศที่ สน. 55/2559) 2. ผู้ให้บริการการจัดการข้อมูลการชำระเงินในการซื้อขายหลักทรัพย์ (ประกาศที่ สธ. 40/2560) | C6: ไม่ใช่ | D6: ตอบ "ใช่" เฉพาะบริษัทที่เป็น "ผู้ให้บริการระบบ" เท่านั้น กรณีบริษัทเป็นผู้ใช้งานระบบ Finnet และ/หรือ FundConnext ให้ตอบ "ไม่ใช่"
B7: ระดับความเสี่ยงของผู้ประกอบธุรกิจตามเงื่อนไขพิเศษ | C7: =IF(C5="ใช่", "ความเสี่ยงระดับสูง" & CHAR(10) & "สิ้นสุดการประเมินแบบ RLA", IF(C6="ใช่", "ความเสี่ยงระดับปานกลาง" & CHAR(10) & "สิ้นสุดการประเมินแบบ RLA", "โปรดประเมินข้อต่อไป" ) ) -> โปรดประเมินข้อต่อไป
A8: เงื่อนไข 3 | B8: ผู้ประกอบธุรกิจขนาดเล็ก แบบที่ 1
B9: เป็นผู้ประกอบธุรกิจที่มีการประกอบธุรกิจใน 4 ประเภท ดังนี้ โดยไม่มีการประกอบธุรกิจประเภทอื่น (ที่อยู่นอกเหนือ 4 ประเภทนี้) 1. การเป็นนายหน้าซื้อขายหลักทรัพย์ การค้าหลักทรัพย์ และ/หรือการจัดจำหน่ายขายหลักทรัพย์อันเป็นตราสารแห่งหนี้ 2. กิจการการยืมและให้ยืมหลักทรัพย์ 3. การเป็นที่ปรึกษาการลงทุน ที่ปรึกษาสัญญาซื้อขายล่วงหน้า หรือที่ปรึกษาสินทรัพย์ดิจิทัล 4. การจัดการกองทุนส่วนบุคคล | C9: ไม่ใช่ | D9: หากบริษัทเป็น - นายหน้า ค้า และจัดจำหน่ายหลักทรัพย์ ประเภทหุ้น (บล.) และหน่วยลงทุน (บลน./LBDU) ให้ตอบ "ไม่ใช่" - บริษัทหลักทรัพย์จัดการลงทุน (บลจ.) ประเภทกองทุนรวม ให้ตอบ "ไม่ใช่" - ผู้ประกอบธุรกิจสินทรัพย์ดิจิทัล (ที่ไม่ใช่ ที่ปรึกษาสินทรัพย์ดิจิทัล) ให้ตอบ "ไม่ใช่" - ผู้ให้บริการระบบเสนอขายโทเคนดิจิทัล (ICO Portal) ให้ตอบ "ไม่ใช่" - ผู้ให้บริการระบบคราวด์ฟันดิง (Crowd Funding) ให้ตอบ "ไม่ใช่" - ผู้ประกอบธุรกิจประเภทอื่น ๆ โปรดตรวจสอบเงื่อนไข 3 อย่างถี่ถ้วน ก่อนเลือกคำตอบ หากสำนักงานตรวจพบว่าบริษัทกรอกผิดเงื่อนไข สำนักงานอาจร้องขอให้บริษัทให้ข้อมูลในส่วนที่ 2 (การประเมินผลกระทบ) เพื่อให้ผลการประเมิน RLA สะท้อนระดับความเสี่ยงของผู้ประกอบธุรกิจอย่างถูกต้อง | E9: =IF(AND(_xlfn.XLOOKUP('1. ข้อมูลบริษัท'!D7, ConditionCheck[comp_name_th], ConditionCheck[condition_3], "")="ไม่ใช่",C9="ใช่"),"โปรด recheck : บริษัทท่านเข้าข่ายต้องตอบว่า ''ไม่ใช่'' เนื่องด้วยบริษัทท่านมีการประกอบธุรกิจประเภทอื่นนอกเหนือจาก 4 ประเภทนี้","")
B10: เข้าข่ายเป็นผู้ประกอบธุรกิจขนาดเล็ก แบบที่ 1 | C10: =IF(C9="ใช่","เข้าข่ายเป็นผู้ประกอบธุรกิจขนาดเล็กแบบที่ 1"&CHAR(10)&"สิ้นสุดการประเมินแบบ RLA","ไม่เข้าข่ายเป็นผู้ประกอบธุรกิจขนาดเล็กแบบที่ 1"&CHAR(10)&"โปรดประเมินข้อต่อไป") -> ไม่เข้าข่ายเป็นผู้ประกอบธุรกิจขนาดเล็กแบบที่ 1 โปรดประเมินข้อต่อไป
B11: ผู้ประกอบธุรกิจขนาดเล็ก แบบที่ 2
B12: 1. ให้บริการซื้อ ขาย แลกเปลี่ยน และ/หรือ จองซื้อ (1) หลักทรัพย์ (เช่น หุ้น หุ้นกู้ หน่วยลงทุน และสัญญาซื้อขายล่วงหน้า เป็นต้น) และ/หรือ (2) สินทรัพย์ดิจิทัล กับลูกค้ารายย่อยผ่านเว็บไซต์ หรือแอปพลิเคชัน | C12: มี | D12: หากมีการใช้ Website หรือ Application ของบุคคลภายนอก (third party) เช่น ระบบของบริษัทแม่ ระบบที่ให้บริการโดย vendor เป็นต้น เพื่อให้บริการกับลูกค้า ให้ตอบ "มี"
B13: 2. ดูแลรักษาทรัพย์สินของลูกค้า ได้แก่ เงินสด หุ้น สัญญาซื้อขายล่วงหน้า และ/หรือ สินทรัพย์ดิจิทัล | C13: มี | D13: - การมีบัญชีเพื่อการจองซื้อหน่วยลงทุนสำหรับลูกค้าที่บริษัทเป็นผู้ดูแลบัญชีนี้เอง (ไม่มีการใช้ escrow agent) นับว่าเป็นการดูแลรักษาทรัพย์สินของลูกค้าด้วย หากมี ให้ระบุว่า "มี" - กรณีที่ผู้ประกอบธุรกิจเป็น บลจ. ประเภทกองทุนรวม (mutual fund) ให้ตอบว่า "มี" เนื่องจากผู้ประกอบธุรกิจ บลจ. จะมีบัญชีจองซื้อหน่วยลงทุน เพื่อรวบรวมเงินค่าซื้อหน่วยลงทุนของลูกค้าระหว่างวัน ก่อนจัดสรรตามหนังสือชี้ชวน - กรณีผู้ประกอบธุรกิจประเภทอื่น ๆ โปรดตรวจสอบว่าท่านมีการดูแลรักษาทรัพย์สินของลูกค้าหรือไม่ หากมี ให้ตอบว่า "มี" | E13: =IF(AND(_xlfn.XLOOKUP('1. ข้อมูลบริษัท'!D7, ConditionCheck[comp_name_th], ConditionCheck[condition_4.2], "")="มี",C13="ไม่มี"),"โปรด recheck : บริษัทท่านเข้าข่ายต้องตอบว่า ''มี'' เนื่องด้วย บลจ. มีการดูแลรักษาทรัพย์สินของลูกค้าในบัญชีจองซื้อหน่วยลงทุน","")
B14: 3. ให้บริการซื้อขายหน่วยลงทุนแบบไม่เปิดเผยชื่อผู้ถือหน่วยลงทุน (omnibus account) | C14: ไม่มี
B15: เข้าข่ายเป็นผู้ประกอบธุรกิจขนาดเล็ก แบบที่ 2 | C15: =IF(AND(C12="ไม่มี",C13="ไม่มี",C14="ไม่มี"),"เข้าข่ายการเป็นผู้ประกอบธุรกิจขนาดเล็กแบบที่ 2"&CHAR(10)& "โปรดกรอกข้อมูลส่วนที่ 2 และ 3","ไม่เข้าข่ายการเป็นผู้ประกอบธุรกิจขนาดเล็กแบบที่ 2"&CHAR(10)&"โปรดประเมินข้อต่อไป") -> ไม่เข้าข่ายการเป็นผู้ประกอบธุรกิจขนาดเล็กแบบที่ 2 โปรดประเมินข้อต่อไป
B16: ผู้ประกอบธุรกิจขนาดเล็ก แบบที่ 3
B17: ผู้ประกอบธุรกิจที่มีลักษณะดังต่อไปนึ้ครบทุกข้อ นับว่าเป็น "ผู้ประกอบธุรกิจขนาดเล็ก" 1. ไม่ใช่ศูนย์ซื้อขายสินทรัพย์ดิจิทัล นายหน้าซื้อขายสินทรัพย์ดิจิทัล ผู้ค้าสินทรัพย์ดิจิทัล ผู้จัดการเงินทุนสินทรัพย์ดิจิทัล และ/หรือ ผู้ให้บริการรับฝากสินทรัพย์ดิจิทัล 2. มีมูลค่าธุรกรรมรวมระหว่าง 1 ม.ค. 68 – 31 ธ.ค. 68 ไม่เกิน 250,000 ล้านบาท และ 3. จำนวนลูกค้าไม่เกิน 1,000 ราย ถือเป็น “ผู้ประกอบธุรกิจขนาดเล็ก” | C17: โปรดกรอกข้อมูล ในส่วนที่ 2 (การประเมินผลกระทบ) และ 3 (การประเมินโอกาสเกิดความเสี่ยง) สามารถดูผลการประเมินได้ในส่วนที่ 4
B18: เข้าข่ายเป็นผู้ประกอบธุรกิจขนาดเล็ก แบบที่ 3 | C18: =IF(AND(C26<=250000,C28<=1000,C35<>"กลุ่ม 1"),"เข้าข่ายเป็นผู้ประกอบธุรกิจขนาดเล็กแบบที่ 3"&CHAR(10)&"โปรดกรอกข้อมูลในส่วนที่ 2 และ 3 ด้วย","ไม่เข้าข่ายเป็นผู้ประกอบธุรกิจขนาดเล็ก แบบที่ 3"&CHAR(10)&"โปรดประเมินข้อต่อไป") -> ไม่เข้าข่ายเป็นผู้ประกอบธุรกิจขนาดเล็ก แบบที่ 3 โปรดประเมินข้อต่อไป
A20: เงื่อนไข 4 | B20: ผู้ประกอบธุรกิจที่ไม่เข้าเงื่อนไขที่ 1 – เงื่อนไขที่ 3 ให้ประเมินระดับความเสี่ยงในส่วนที่ 2 และ 3 แล้วดูผลการประเมินในส่วนที่ 4 ต่อไป
B21: * ผู้ประกอบธุรกิจที่เข้าเงื่อนไขที่ 1, 2 หรือ 3 แบบที่ 1 | C21: : ดูผลการประเมินได้ในส่วนที่ 4
B22: * ผู้ประกอบธุรกิจที่เข้าเงื่อนไขที่ 3 แบบที่ 1 หรือ เงื่อนไขที่ 3 แบบที่ 2 | C22: : กรอกข้อมูลเฉพาะในส่วนที่ 2 เพื่อให้สำนักงานใช้สอบทานผลการประเมิน
B24: ส่วนที่ 2: การประเมินผลกระทบ (Impact)
B25: รายการ | C25: ข้อมูลของผู้ประกอบธุรกิจ | D25: หน่วย | E25: ระดับผลกระทบ | F25: ระดับผลกระทบ
A26: 1 | B26: มูลค่าการซื้อขาย (Transaction value) *ยอดรวม (Accumulated Value) ไม่ใช่ค่าเฉลีย* *ข้อมูลช่วงวันที่ 1 มกราคม 2568 – 31 ธันวาคม 2568 | D26: ล้านบาท *โปรดตรวจสอบหน่วยของข้อมูล เพื่อป้องกันการกรอกผิด* | E26: =IF(F26=3,"H",IF(F26=2,"M","L")) -> L | F26: =IF(C26>Criteria!C5,3,IF(C26>=Criteria!B5,2,1)) -> 1
A27: 2 | B27: มูลค่าทรัพย์สินของลูกค้าทั้งหมดที่อยู่ภายใต้การบริหารจัดการ (Value of asset under management) *ข้อมูล ณ วันที่ 31 ธันวาคม 2568 | D27: ล้านบาท *โปรดตรวจสอบหน่วยของข้อมูล เพื่อป้องกันการกรอกผิด* | E27: =IF(F27=3,"H",IF(F27=2,"M","L")) -> L | F27: =IF(C27>Criteria!C6,3,IF(C27>=Criteria!B6,2,1)) -> 1
A28: 3 | B28: จำนวนลูกค้า (Number of customers) *ข้อมูล ณ วันที่ 31 ธันวาคม 2568 | D28: ราย | E28: =IF(F28=3,"H",IF(F28=2,"M","L")) -> L | F28: =IF(C28>Criteria!C7,3,IF(C28>=Criteria!B7,2,1)) -> 1
A29: 4 | B29: ร้อยละของมูลค่าธุรกรรมของลูกค้ารายย่อยที่เกิดขึ้นผ่านช่องทางอิเล็กทรอนิกส์ (Percentage of transaction value made by retail customers via e-channels) *ข้อมูลช่วงวันที่ 1 มกราคม 2568 – 31 ธันวาคม 2568 | D29: ร้อยละ (เช่น 90% ให้ใส่เลข 90) | E29: =IF(F29=3,"H",IF(F29=2,"M","L")) -> L | F29: =IF(C29>Criteria!C8,3,IF(C29>=Criteria!B8,2,1)) -> 1
B30: สรุประดับผลกระทบ (impact) | C30: =IF(F30=3,"H",IF(F30=2,"M","L")) -> L | F30: =IF(LARGE(_xlfn.MODE.MULT(F26:F29),1)=1,IF(COUNTIF(F26:F29,1)=2,2,1),LARGE(_xlfn.MODE.MULT(F26:F29),1)) -> 1
B32: ส่วนที่ 3: การประเมินโอกาสเกิดเหตุการณ์ความเสี่ยง (likelihood)
B33: รายการ | C33: ข้อมูลของผู้ประกอบธุรกิจ
B34: ประเภทธุรกิจ หมายเหตุ: (1) หากมีการดำเนินธุรกิจมากกว่า 1 ประเภท ให้เลือกธุรกิจที่มีโอกาสเกิดเหตุการณ์ความเสี่ยง (likelihood) ที่สูงกว่า (อ้างอิงตามส่วนที่ 3 ของคำอธิบายประกอบการจัดทำแบบ RLA) (2) กรณีธุรกิจมี likelihood เท่ากัน ให้เลือกธุรกิจหลักของบริษัท 1 ธุรกิจ (3) กรณีผู้ประกอบธุรกิจบริษัทหลักทรัพย์ซึ่งมีการให้บริการโทเคนดิจิทัล (Digital Token) ที่ไม่ถือว่าเป็นการประกอบธุรกิจสินทรัพย์ดิจิทัลที่ต้องได้รับการอนุญาตตามกฎหมายว่าด้วยการประกอบธุรกิจสินทรัพย์ดิจิทัล (Investment Token ที่ได้รับอนุญาตเสนอขายจากสำนักงาน หรือ G-Token) ให้ตอบประเภทธุรกิจเดิม ตัวอย่างเช่น บล. หากมีการให้บริการ G-Token ให้ระบุว่าเป็น "นายหน้าซื้อขาย / ค้า / จัดจำหน่ายหลักทรัพย์" | C34: ศูนย์ซื้อขายสินทรัพย์ดิจิทัล / นายหน้าซื้อขายสินทรัพย์ดิจิทัล / ผู้ค้าสินทรัพย์ดิจิทัล
B35: สรุปโอกาสเกิดเหตุการณ์ความเสี่ยง (likelihood) | C35: =VLOOKUP(C34,Criteria!A10:B27,2,FALSE) -> กลุ่ม 1 | D35: =IF(C35="กลุ่ม 1","สูง",IF(C35="กลุ่ม 2","ปานกลาง","ต่ำ")) -> สูง
B37: ส่วนที่ 4: การประเมินระดับความเสี่ยงภาพรวม
B38: ผลการประเมินระดับความเสี่ยง | C38: =IF(C5="ใช่","ผู้ประกอบธุรกิจที่มีความเสี่ยงระดับสูง",IF(C6="ใช่","ผู้ประกอบธุรกิจที่มีความเสี่ยงระดับปานกลาง",IF(C9="ใช่","ผู้ประกอบธุรกิจขนาดเล็ก",IF(AND(C12="ไม่มี",C13="ไม่มี",C14="ไม่มี"),"ผู้ประกอบธุรกิจขนาดเล็ก",IF(AND(C26<=250000,C28<=1000,C35<>"กลุ่ม 1"),"ผู้ประกอบธุรกิจขนาดเล็ก",INDEX(Criteria!B30:D32,MATCH(C35,Criteria!A30:A32,0),MATCH(C30,Criteria!B29:D29,0))))))) -> ผู้ประกอบธุรกิจที่มีความเสี่ยงระดับปานกลาง

Sheet 3. ข้อมูลเสริม(กรอกทุกบริษัท)
A1: ข้อมูลเสริม (Supplementary Information) | G1: Version : 2569 (นำส่งสำนักงาน ก.ล.ต. ทางระบบ E-Submission ภายในวันที่ 31 มีนาคม 2569)
A2: วิธีการใช้งาน: ให้ผู้ประกอบธุรกิจเติมข้อมูลในส่วนช่อง (cell) สีเหลืองทั้งหมด หมายเหตุ: ข้อมูลในส่วนนี้ไม่มีผลต่อการคำนวณความเสี่ยงของผู้ประกอบธุรกิจ แต่เป็นข้อมูลเสริมเพื่อเป็นประโยชน์ต่อสำนักงานในการวิเคราะห์ Cyber Landscape ของตลาดทุน และสามารถจัดกิจกรรมส่งเสริม Cyber Resilience ได้มีประสิทธิภาพดียิ่งขึ้น
A3: หัวข้อ | D3: คำอธิบาย | F3: ค่าปัจจัย | G3: หน่วย | H3: หมายเหตุ (ถ้ามี)
A4: Category 1 - ผลประกอบการ
B5: กำไร (ขาดทุน) สุทธิ สำหรับงวด ย้อนหลัง 3 ปี | D5: กำไร (ขาดทุน) หลังหักภาษีและดอกเบี้ย (Net Profit) *งบการเงินเฉพาะกิจการ *หากมีผลขาดทุนสุทธิ ให้ใส่เครื่องหมาย - (ลบ) ไว้หน้าจำนวนเงิน
A6: 1.1 | B6: Year [งบการเงินประจำปีล่าสุดที่มี ซึ่งผ่านการสอบทานโดยผู้สอบบัญชี] | G6: ล้านบาท
A7: 1.2 | B7: Year-1 [งบการเงินย้อนหลัง 1 ปี] | G7: ล้านบาท
A8: 1.3 | B8: Year-2 [งบการเงินย้อนหลัง 2 ปี] | G8: ล้านบาท
A9: Category 2 - ลักษณะเฉพาะขององค์กร
A10: ข้อมูล ณ วันที่ 31 ธันวาคม 2568
A11: 2.1 | B11: จำนวนสาขาในประเทศไทย | D11: นับจากจำนวนสถานที่ที่เป็นที่ตั้งสาขา/สำนักงาน ในประเทศไทย | G11: แห่ง
A12: 2.2 | B12: วิธีการกำหนดนโยบายด้าน IT security | D12: เลือกลักษณะที่ใกล้เคียงกับบริษัทมากที่สุด 1) กำหนด IT secuiry policy เอง 2) นำ IT security policy จากบริษัทแม่หรือบริษัทในกลุ่มมาใช้ (รวมถึงมีการปรับปรุงเนื้อหาบางส่วน)
A13: 2.3 | B13: อัตรากำลังทั้งหมดขององค์กร | D13: นับจากจำนวนอัตรากำลังที่มีอยู่ในปัจจุบันทั้งหมด (ทั้งด้าน IT และ non-IT) แม้ว้าบางอัตรายังไม่ได้ fill-in และนับรวมถึงผู้บริหารด้วย ทั้งนี้ ไม่รวม Board of Directors | G13: ตำแหน่ง
A14: 2.4 | B14: โครงสร้างองค์กรในด้านเทคโนโลยีสารสนเทศ | D14: งาน IT ที่เป็น day-to-day operation ส่วนใหญ่ ดำเนินการโดยผู้ใด 1) แผนก IT ในองค์กร 2) แผนก IT ของบริษัทแม่หรือบริษัทในกลุ่ม 3) บริการโดยบุคคลภายนอกอื่น ๆ
A15: 2.5 | B15: จำนวนบุคลากรด้าน IT : จำนวนบุคลากรด้าน IT ประจำองค์กร มีทั้งหมดกี่คน | D15: (1) ไม่รวมบุคลากรประเภท outsource, contract และ ไม่รวมบุคลากรจากบริษัทแม่/บริษัทร่วม (2) บุคลากรด้าน IT หมายถึง บุคลากรที่ทำงานประจำซึ่งได้รับค่าจ้างและสวัสดิการจากบริษัทท่านเท่านั้น และเป็นผู้รับผิดชอบงานเกี่ยวกับ IT เช่น IT risk/ IT operation/ IT governance/ developer/ system admin/ IT security/ helpdesk/ IT compliance/ IT audit โดยนับรวมบุคลากรในทุกระดับตั้งแต่ officer ถึง C-suite level ทั้งนี้ ไม่นับรวมคณะกรรมการบริษัท แต่หาก C-suite level เป็นคณะกรรมการบริษัทด้วยสามารถนับได้ | G15: คน
A16: 2.6 | B16: จำนวนบุคลากรด้าน IT : จำนวนบุคลากรด้าน IT จากบริษัทแม่หรือบริษัทในเครือ ที่ทำหน้าที่รับผิดชอบด้าน IT ให้แก่องค์กรของผู้ประกอบธุรกิจ | D16: (1) ไม่รวมบุคลากรประเภท outsource, contract (2) บุคลากรด้าน IT จากบริษัทแม่ หมายถึง บุคลากรที่ทำงานประจำที่ได้รับค่าจ้างและสวัสดิการจากบริษัทแม่เท่านั้น และรับผิดชอบงานเกี่ยวกับ IT เช่น IT risk/ IT operation/ IT governance/ developer/ system admin/ IT security/ helpdesk/ IT compliance/ IT audit เป็นต้น โดยนับรวมบุคลากรในทุกระดับตั้งแต่ officer ถึง C-suite level ทั้งนี้ ไม่นับรวม Board of Directors แต่หาก C-suite level เป็นคณะกรรมการบริษัทด้วยสามารถนับได้ (3) กรณีบริษัทเป็นบริษัทในเครือของ Group บริษัทต่างประเทศ ทำให้มีข้อจำกัดไม่สามารถระบุจำนวนบุคลากรด้าน IT จากบริษัทแม่หรือบริษัทในเครือที่แน่นอนได้ ขอให้ใช้ข้อมูล Best Estimation เช่น คำนวณเฉลี่ยจาก Man-Hour ที่ Charge Service เป็นต้น หากยังคงมีข้อจำกัด ให้ระบุข้อมูลในช่อง "หมายเหตุ" cell H16 สำหรับสาเหตุการไม่สามารถระบุข้อมูลได้ | G16: คน
A17: 2.7 | B17: จำนวนบุคลากรด้าน IT : ที่ไม่ใช่พนักงานประจำ เช่น พนักงานประเภท outsource หรือ contract | D17: (1) นับเฉพาะพนักงานประเภท outsource/contract ที่ปฏิบัติงานประจำวัน (daily operations) ให้กับบริษัท หรือเข้ามาปฏิบัติงานประจำที่สถานที่ของบริษัท (2) กรณีบริษัทเป็นบริษัทในเครือของ Group บริษัทต่างประเทศ ทำให้มีข้อจำกัดไม่สามารถระบุจำนวน outsource หรือ contract จากบริษัทแม่หรือบริษัทในเครือต่างประเทศที่ให้บริการต่อบริษัท ขอให้ใช้ข้อมูล Best Estimation เช่น คำนวณเฉลี่ยจาก Man-Hour ที่ Charge Service เป็นต้น หากยังคงมีข้อจำกัด ให้ระบุข้อมูลในช่อง "หมายเหตุ" cell H17 สำหรับสาเหตุการไม่สามารถระบุข้อมูลได้ | G17: คน
A18: 2.8 | B18: บุคลากรที่รับผิดชอบงานด้าน IT Security/Cybersecurity | D18: เลือกลักษณะที่ใกล้เคียงกับบริษัทมากที่สุด 1) IT Security/Cybersecurity Unit หรือ Department ในองค์กร 2) IT Security/Cybersecurity Unit หรือ Department ของบริษัทแม่หรือบริษัทในกลุ่ม 3) ใช้บริการจากผู้ให้บริการภายนอกอื่น ๆ
A19: 2.9 | B19: อัตรากำลังของบุคลากรภายในองค์กรที่รับผิดชอบงานด้าน IT Security/Cybersecurity โดยเฉพาะ *เจ้าหน้าที่ที่รับผิดชอบเกี่ยวกับการรักษาความมั่นคงปลอดภัย (Security) โดยเฉพาะ ไม่นับเจ้าหน้าที่ด้าน IT อื่น ๆ | D19: นับจากจำนวนอัตรากำลังที่มีอยู่ในปัจจุบันทั้งหมดที่อยู่ภายใต้สังกัดขององค์กรท่านโดยตรง ไม่นับรวมอัตรากำลังจากบริษัทแม่หรือบริษัทผู้ให้บริการภายนอก ตอบ 0 ถ้าไม่มีตำแหน่งด้าน IT Security/Cybersecurity โดยเฉพาะ ภายในองค์กร **กรณีพนักงาน IT ได้รับมอบหมายงานด้าน IT Security/Cybersecurity เพิ่มเติมจากงานประจำ เช่น มอบหมายให้ system admin ช่วยดูแลงานด้าน security ไม่ถือเป็นบุคคลากรที่รับผิดชอบงานด้าน IT security/Cybersecurity โดยเฉพาะ | G19: ตำแหน่ง
A20: 2.1 | B20: ผู้กำกับดูแลการปฏิบัติตามกฎหมายและหลักเกณฑ์ด้าน IT (IT Compliance) | D20: งานกำกับดูแลการปฏิบัติตามกฎหมายและหลักเกณฑ์ด้าน IT ส่วนใหญ่ ดำเนินการโดยผู้ใด 1) เจ้าหน้าที่ Compliance/Risk/Legal ของบริษัท 2) เจ้าหน้าที่ Compliance/Risk/Legal จากบริษัทแม่หรือบริษัทในกลุ่ม 3) เจ้าหน้าที่ Compliance/Risk/Legal จากบุคคลภายนอก 4) เจ้าหน้าที่ IT Compliance/IT Risk ของบริษัท 5) เจ้าหน้าที่ IT Compliance/IT Risk จากบริษัทแม่หรือบริษัทในกลุ่ม 6) เจ้าหน้าที่ IT Compliance/IT Risk จากบุคคลภายนอก
A21: 2.11 | B21: IT Compliance resource บริษัทท่านมีบุคลากรที่ทำหน้าที่หรือรับผิดชอบด้าน IT Compliance กี่คน | D21: (1) นับบุคลากรประจำของบริษัทท่านเท่านั้น ไม่นับบุคลากรจากบริษัทแม่ หรือบุคลากรประเภท outsource/contract/3rd party (2) หากไม่มีบุคลากรที่รับผิดชอบด้าน IT Compliance โปรดตอบจำนวนบุคลากรเป็น 0 * หากเจ้าหน้าที่ Legal, IT, Compliance หรืออื่น ๆ รับผิดชอบงานด้าน IT Compliance ด้วย ให้นับจำนวนได้ (3) ตัวอย่างลักษณะงานที่นับเป็นตำแหน่งงานด้าน IT Compliance - กำกับดูแลให้องค์กรมีการปฏิบัติตามกฎหมายและหลักเกณฑ์ด้าน IT ที่เกี่ยวข้อง - ติดตาม ให้คำปรึกษา และสอบทานด้านการปฏิบัติตามกฎหมายและหลักเกณฑ์ด้าน IT ที่เกี่ยวข้อง | G21: คน
A22: 2.12 | B22: ผู้ตรวจสอบด้าน IT (IT Auditors) | D22: งานตรวจสอบด้าน IT ส่วนใหญ่ ดำเนินการโดยผู้ใด 1) IT auditors ภายในบริษัท 2) IT auditors จากบริษัทแม่หรือบริษัทในกลุ่ม 3) IT auditors จากบุคคลภายนอกอื่น ๆ 4) IT auditors ร่วมระหว่างภายในบริษัท และบุคคลภายนอก
A23: 2.13 | B23: เจ้าหน้าที่คุ้มครองข้อมูลส่วนบุคคล (DPO : Data Protection Officer) *new : เพิ่มเติมจากแบบ RLA ครั้งก่อนหน้า* | D23: บริษัทท่านมี DPO1 ปฏิบัติหน้าที่หรือไม่ 1) มี โดยบริษัทมีการแต่งตั้ง DPO ปฏิบัติหน้าที่ให้กับบริษัทเอง 2) มี โดยบริษัทได้ให้ DPO ของเครือกิจการหรือเครือธุรกิจเดียวกัน ปฏิบัติหน้าที่ให้กับบริษัท 3) ไม่มี DPO **หากตอบไม่มี โปรดระบุข้อมูลในช่องหมายเหตุ cell H24** 1 พระราชบัญญัติคุ้มครองข้อมูลส่วนบุคคล พ.ศ. 2562 (PDPA) มาตรา 40 ระบุถึงเงื่อนไขและหลักเกณฑ์ที่ผู้ควบคุมข้อมูลส่วนบุคคล (Data Controller) หรือผู้ประมวลผลข้อมูลส่วนบุคคล (Data Processor) ที่เข้าข่ายจะต้องแต่งตั้ง เจ้าหน้าที่คุ้มครองข้อมูลส่วนบุคคล (DPO) เพื่อทำหน้าที่ตามมาตรา 41 ของพระราชบัญญัติ PDPA 2 สำนักงานสอบถามเป็นข้อมูล survey เท่านั้น (ข้อมูลที่ท่านได้ระบุในรายการนี้ไม่ได้ส่งผลต่อการพิจารณาตามข้อกำหนดของประกาศ สธ. 38/2565) ทั้งนี้ สำนักงานคณะกรรมการคุ้มครองข้อมูลส่วนบุคคล (สคส.) ได้แจ้งขอความร่วมมือให้บริษัทที่เข้าข่ายตาม PDPA จัดตั้ง DPO เพื่อให้เป็นไปตามข้อกำหนด PDPA ด้วย | H23: =IF(F23="3) ไม่มี DPO", "หากไม่มีการแต่งตั้ง DPO โปรดระบุว่าได้รับข้อยกเว้นตามข้อกำหนดใดของ PDPA (โปรดระบุที่ cell ด้านล่าง ↓ (cell H24))", "")
A25: 2.14 | B25: จำนวนผู้ให้บริการภายนอกด้าน IT | D25: นับจากผู้ให้บริการภายนอกด้าน IT ที่ให้บริการแก่บริษัท (IT service provider ไม่รวม business partner และธนาคารที่ให้บริการฝากถอนเงินสด) โดยนับรวมบริษัทในเครือ ที่ครอบคลุมบริการ ดังนี้ 1) Cloud service provider 2) IT support สำหรับดูแล end-user device และ server 3) Security operation center 4) ผู้ให้บริการ Co-location 5) บริการ IT อื่น ๆ ที่หากผู้ให้บริการหยุดให้บริการ จะส่งผลกระทบต่อการให้บริการของบริษัท | G25: ราย
A26: 2.15 | B26: ร้อยละ Turnover Rate ของบุคลากรด้าน IT ประจำองค์กร | D26: ให้คำนวณจาก (จำนวนบุคลากรด้าน IT ประจำองค์กรที่ลาออกระหว่างวันที่ 1 มกราคม 2568 - 31 ธันวาคม 2568) หารด้วย [(จำนวนอัตราบุคลากรด้าน IT ประจำองค์กร ณ วันที่ 1 มกราคม 2568 + จำนวนอัตราบุคลากรด้าน IT ประจำองค์กร ณ วันที่ 31 ธันวาคม 2568)/2] *เงื่อนไขบุคลากร IT ประจำองค์กร โปรดอ้างอิงคำอธิบายตามข้อ 2.5 | G26: % (โปรดตรวจสอบหน่วย ตัวอย่างเช่น หากท่านระบุ 0.3 แสดงว่ามี Turnover Rate 0.3% มิใช่ 30%)
D27: #VALUE!
D28: ↑ หากรูปภาพสูตรการคำนวณด้านบนไม่ปรากฏ อาจเป็นเพราะระบบ security ของท่านได้ป้องกันการ download รูปภาพ ทั้งนี้ ท่านสามารถใช้ข้อมูลใน cell D26 ได้ (เป็นข้อมูลเดียวกัน)
A29: Category 3 - ประวัติการเกิดเหตุการณ์ด้านความมั่นคงปลอดภัย
A30: ข้อมูลช่วงวันที่ 1 มกราคม 2568 - 31 ธันวาคม 2568
A31: 3.1 | B31: จำนวนเหตุการณ์ข้อมูลรั่วไหล (Data breach) | D31: นับตามจำนวนครั้งที่เกิด ทั้งในกรณีที่ข้อมูลรั่วไหลจาก Cyber attack หรือจากการทุจริตหรือความผิดพลาดของระบบ กระบวนการหรือพนักงานภายในขององค์กร โดยอาจนับจาก IT / Security Incident Report | G31: ครั้ง
A32: 3.2 | B32: จำนวนเหตุการณ์ Malware | D32: นับจำนวนครั้งที่ตรวจพบ Malware โดยนับทั้งที่มีความเสียหายและไม่มีความเสียหาย โดยนับจากข้อมูลระบบ Anti-Malware (รวมถึงการตรวจจับจาก end-user device) | G32: ครั้ง
A33: 3.3 | B33: จำนวนเหตุการณ์ DDoS | D33: นับเฉพาะครั้งที่เกิดเหตุการณ์ DDoS ที่ส่งผลกระทบต่อการให้บริการลูกค้า เช่น ระบบหน่วง ล่าช้า หรือไม่สามารถให้บริการได้ปกติ | G33: ครั้ง
A34: 3.4 | B34: จำนวนเหตุการณ์ SQL Injection, XSS, CSRF | D34: นับจำนวนครั้งที่เกิดเหตุการณ์กับระบบ Internet / Mobile application ทั้งเหตุการณ์ที่มีความเสียหายและไม่มีความเสียหาย โดยนับจาก Log ของอุปกรณ์ เช่น WAF, NGFW และ Firewall ที่ทำงานในระดับ Application Layer | G34: ครั้ง
A35: 3.5 | B35: จำนวนเหตุการณ์ที่ได้รับผลกระทบจากการเกิด Cyber attack กับ Third-party ของบริษัท | D35: นับจำนวนเหตุการณ์ Cyber attack กับ Third party ที่ส่งผลกระทบกับบริษัท เช่น ข้อมูลของลูกค้ารั่วไหลผ่าน third-party หรือระบบของผู้ให้บริการภายนอกถูกบุกรุกโจมตี เป็นต้น | G35: ครั้ง
A36: Category 4 - การกำกับดูแลและบริหารจัดการด้าน IT
A37: ท่านสามารถใช้ข้อมูลผลการตรวจสอบด้าน IT ปี 2567 ที่ได้นำส่งสำนักงานภายในวันที่ 31 มีนาคม 2568 ที่ผ่านมา, โดยข้อมูลสถานะการแก้ไขข้อตรวจพบ เป็น ณ วันที่ 31 ธันวาคม 2568 หรือหากมีข้อมูลล่าสุด/ใหม่ กว่า 31 ธันวาคม 2568 สามารถระบุได้
B38: ข้อมูลสถานะการแก้ไขข้อตรวจพบ (finding) : | C38: 1) ข้อตรวจพบทั้งหมดที่ผู้ตรวจสอบด้าน IT ได้รายงานในรายงานผลการตรวจสอบด้าน IT (ตามประกาศสำนักงาน ก.ล.ต. ที่ สธ. 38/2565) ปี 2567 ซึ่งมีกำหนดการนำส่ง ภายใน 31 มีนาคม 2568 ที่ผ่านมา 2) ระดับความสำคัญของข้อตรวจพบ ตามที่ผู้ตรวจสอบด้าน IT ได้ระบุในรายงานผลการตรวจสอบ IT audit report 3) ระบุจำนวนข้อตรวจพบทั้งหมด มิใช่เพียงจำนวนข้อตรวจพบคงค้าง โดยข้อตรวจพบที่แก้ไขแล้วเสร็จ ให้ระบุในช่อง done, ข้อตรวจพบที่ยังไม่ได้แก้ไข/ อยู่ระหว่างการแก้ไข (คงค้าง) ให้ระบุในช่อง on-going 3) ระบุในช่องสีเหลืองเป็นตัวเลข เช่น 2 3 10 ตามจำนวน, หากไม่มีข้อตรวจพบใน Domain หรือระดับความสำคัญดังกล่าว ให้เว้นว่าง
B40: หัวข้อ (Domain) | C40: ระดับความสำคัญของข้อตรวจพบ | D40: จำนวนข้อตรวจพบ | E40: จำนวนข้อตรวจพบ ที่แก้ไขแล้วเสร็จ (done) | F40: จำนวนข้อตรวจพบ ที่อยู่ระหว่างการแก้ไข (on-going) | G40: หมายเหตุ (ถ้ามี)
B41: บทบาทหน้าที่และความรับผิดชอบของคณะกรรมการของผู้ประกอบธุรกิจ | C41: H
C42: M
...

Sheet A. ภาพประกอบ
P2: Version: | Q2: 2569
P3: (นำส่งสำนักงาน ก.ล.ต. ทางระบบ E-Submission ภายในวันที่ 31 มีนาคม 2569)
P4: ดาวน์โหลดเอกสาร คำอธิบายประกอบการจัดทำแบบ RLA ได้ที่เว็บไซต์ www.sec.or.th
P7: ตรวจสอบใบอนุญาตของผู้ประกอบธุรกิจได้ที่เว็บไซต์ SEC Check First
P9: หมายเหตุ ‡ ผู้ประกอบธุรกิจสินทรัพย์ดิจิทัล เช่น ที่ปรึกษาสินทรัพย์ดิจิทัล (Digital Asset Advisory Service) เป็นต้น มีหน้าที่ ในการปฏิบัติตามข้อกำหนดของประกาศ กธ. 19/2561 เรื่อง หลักเกณฑ์ เงื่อนไข และวิธีการประกอบธุรกิจสินทรัพย์ดิจิทัล เพื่อให้เป็นไปตามข้อกำหนดข้อ 18 และ 19 ของประกาศ กธ. 19/2561 ผู้ประกอบธุรกิจสินทรัพย์ดิจิทัลจึงยังคงต้อง (1) จัดให้มีการตรวจสอบด้าน IT ทุกปี และต้องนำส่งรายงานต่อสำนักงานตามเงื่อนไขของประกาศ กธ. 19/2561 คือ (ก) จัดให้มีการตรวจสอบด้านเทคโนโลยีสารสนเทศ ก่อนเริ่มให้บริการและภายหลังเริ่มให้บริการแล้วอย่างน้อยปีละ 1 ครั้ง และ (ข) รายงานผลต่อสำนักงานภายใน 30 วันนับจากวันที่ได้รับผลการทดสอบอย่างเป็นทางการ แต่ไม่เกิน 90 วัน นับจากวันที่สิ้นสุดกระบวนการทดสอบ (2) จัดให้มีการทดสอบการเจาะระบบ (penetration test) กับระบบงานสำคัญก่อนเริ่มให้บริการและภายหลังจากเริ่มให้บริการอย่างน้อยปีละ 1 ครั้ง และรายงานผลการทดสอบการเจาะระบบต่อสำนักงาน ภายใน 30 วันนับจากวันที่ได้รับผลการทดสอบอย่างเป็นทางการ แต่ไม่เกิน 90 วันนับจากวันที่สิ้นสุดกระบวนการทดสอบ แม้ว่าผู้ประกอบธุรกิจสินทรัพย์ดิจิทัล เช่น ที่ปรึกษาสินทรัพย์ดิจิทัล เป็นต้น ได้ผลการประเมินแบบ RLA เป็นผู้ประกอบธุรกิจขนาดเล็ก ผู้ประกอบธุรกิจต้องจัดให้มีการตรวจสอบด้าน IT และการทดสอบการเจาะระบบ อย่างน้อยปีละ 1 ครั้ง เพื่อให้เป็นไปตามข้อกำหนดของประกาศ กธ. 19/2561
P10: ผู้ประกอบธุรกิจสินทรัพย์ดิจิทัล มีหน้าที่ในการปฏิบัติตามข้อกำหนดของประกาศ กธ. 19/2561 เรื่อง หลักเกณฑ์ เงื่อนไข และวิธีการประกอบธุรกิจสินทรัพย์ดิจิทัล เพื่อให้เป็นไปตามข้อกำหนดของประกาศ กธ. 19/2561
P15: แม้ว่าผู้ประกอบธุรกิจสินทรัพย์ดิจิทัล เช่น ที่ปรึกษาสินทรัพย์ดิจิทัล เป็นต้น ได้ผลการประเมินแบบ RLA เป็นผู้ประกอบธุรกิจขนาดเล็ก ผู้ประกอบธุรกิจต้องจัดให้มีการตรวจสอบด้าน IT และการทดสอบการเจาะระบบ ตามข้อกำหนดของประกาศ กธ. 19/2561

Sheet B. การนับรอบปีการตรวจสอบด้าน IT
A1: รอบปีการตรวจสอบด้าน IT | B1: อ้างอิงจากผลการประเมินแบบ RLA | E1: การตรวจสอบด้าน IT ตามผล RLA | G1: (ถ้าเข้าข่ายต้องจัดให้มีการตรวจสอบในรอบปี) นำส่งแบบรายงานผลการตรวจสอบด้าน IT และแผนปรับปรุงแก้ไขข้อบกพร่อง ภายในวันที่***
B2: รอบ RLA | C2: กรอบข้อมูลย้อนหลัง เพื่อคำนวณ RLA | D2: กำหนดการนำส่งผลการประเมิน RLA | E2: (ก) “ผู้ประกอบธุรกิจขนาดเล็ก”*** หรือ “ผู้ประกอบธุรกิจที่มีความเสี่ยงระดับต่ำ” | F2: (ข) “ผู้ประกอบธุรกิจที่มีความเสี่ยงระดับปานกลาง” หรือ “ผู้ประกอบธุรกิจที่มีความเสี่ยงระดับสูง”
A3: 2568 | B3: 2567 | C3: Q4 2566 – Q3 2567 | D3: 243983 | E3: ไม่ได้กำหนด* | F3: ต้อง | G3: 244439
A4: 2569 | B4: 2569** | C4: Q1 – Q4 2568 | D4: 244439 | E4: ต้อง | F4: ต้อง | G4: 244804
A5: 2570 | B5: 2570 | C5: Q1 – Q4 2569 | D5: 244804 | E5: ไม่ได้กำหนด* | F5: ต้อง | G5: 245169
A6: 2571 | B6: 2571 | C6: Q1 – Q4 2570 | D6: 245169 | E6: ไม่ได้กำหนด* | F6: ต้อง | G6: 245535
A7: 2572 | B7: 2572 | C7: Q1 – Q4 2571 | D7: 245535 | E7: ต้อง | F7: ต้อง | G7: 245900
A8: 2573 | B8: 2573 | C8: Q1 – Q4 2572 | D8: 245900 | E8: ไม่ได้กำหนด* | F8: ต้อง | G8: 246265
A9: 2574 | B9: 2574 | C9: Q1 – Q4 2573 | D9: 246265 | E9: ไม่ได้กำหนด* | F9: ต้อง | G9: 246630
A10: 2575 | B10: 2575 | C10: Q1 – Q4 2574 | D10: 246630 | E10: ต้อง | F10: ต้อง | G10: 246996
A11: 2576 | B11: 2576 | C11: Q1 – Q4 2575 | D11: 246996 | E11: ไม่ได้กำหนด* | F11: ต้อง | G11: 247361
A12: 2577 | B12: 2577 | C12: Q1 – Q4 2576 | D12: 247361 | E12: ไม่ได้กำหนด* | F12: ต้อง | G12: 247726
A13: 2578 | B13: 2578 | C13: Q1 – Q4 2577 | D13: 247726 | E13: ต้อง | F13: ต้อง | G13: 248091
A14: ... | B14: ... | C14: ... | D14: ... | E14: ... | F14: ... | G14: ...
A15: หมายเหตุ :
A16: * | B16: กรณีที่เกิดเหตุการณ์ด้านความมั่นคงปลอดภัยของระบบ IT อย่างมีนัยสำคัญ ผู้ประกอบธุรกิจขนาดเล็กและผู้ประกอบธุรกิจที่มีความเสี่ยงระดับต่ำ ต้องจัดให้มีการดำเนินการตรวจสอบด้าน IT แบบเต็มรูปแบบ (full scope) ภายในปีที่เกิดเหตุการณ์ดังกล่าวด้วย
A17: ** | B17: ตั้งแต่หลักเกณฑ์ฉบับแก้ไขเพิ่มเติมมีผลใช้บังคับ รอบปี RLA จะเรียกตามรอบปีที่นำส่งแบบ RLA
A18: *** | B18: ผู้ประกอบธุรกิจสินทรัพย์ดิจิทัล เช่น ที่ปรึกษาโทเคนดิจิทัล ที่ปรึกษาคริปโทเคอร์เรนซี DA Exchange, DA Broker, DA Dealer เป็นต้น ผู้ประกอบธุรกิจสินทรัพย์ดิจิทัลยังคงมีหน้าที่ในการปฏิบัติตามข้อกำหนดของประกาศ กธ. 19/2561 เรื่อง หลักเกณฑ์ เงื่อนไข และวิธีการประกอบธุรกิจสินทรัพย์ดิจิทัล ผู้ประกอบธุรกิจสินทรัพย์ดิจิทัลจึงยังคงต้องจัดให้มีการตรวจสอบทุกปี และต้องนำส่งรายงานต่อสำนักงานตามเงื่อนไขของประกาศ กธ. 19/2561 คือ (1) จัดให้มีการตรวจสอบด้านเทคโนโลยีสารสนเทศ ก่อนเริ่มให้บริการและภายหลังเริ่มให้บริการแล้วอย่างน้อยปีละ 1 ครั้ง และ (2) รายงานผลต่อสำนักงานภายใน 30 วันนับจากวันที่ได้รับผลการทดสอบอย่างเป็นทางการ แต่ไม่เกิน 90 วันนับจากวันที่สิ้นสุดกระบวนการทดสอบ

Sheet Criteria
B1: ใช่ | C1: ไม่ใช่
B2: มี | C2: ไม่มี
B4: L | C4: H
A5: มูลค่าการซื้อขาย | B5: 350000 | C5: 1500000
A6: มูลค่าทรัพย์สินของลูกค้าทั้งหมดที่อยู่ภายใต้การบริหารจัดการ | B6: 40000 | C6: 250000
A7: จำนวนลูกค้า | B7: 20000 | C7: 200000
A8: ร้อยละของมูลค่าธุรกรรมที่เกิดขึ้นผ่านช่องทางอิเล็กทรอนิกส์ | B8: 50 | C8: 80
A10: ศูนย์ซื้อขายสินทรัพย์ดิจิทัล / นายหน้าซื้อขายสินทรัพย์ดิจิทัล / ผู้ค้าสินทรัพย์ดิจิทัล | B10: กลุ่ม 1
A11: ผู้จัดการเงินทุนสินทรัพย์ดิจิทัล | B11: กลุ่ม 1
A12: ผู้ให้บริการรับฝากสินทรัพย์ดิจิทัล | B12: กลุ่ม 1
A13: ตัวแทนซื้อขายสัญญาซื้อขายล่วงหน้า | B13: กลุ่ม 2
A14: นายหน้าซื้อขาย / ค้า / จัดจำหน่ายหลักทรัพย์ | B14: กลุ่ม 2
A15: นายหน้าซื้อขาย / ค้า / จัดจำหน่ายหลักทรัพย์อันเป็นตราสารแห่งหนี้ | B15: กลุ่ม 3
A16: นายหน้าซื้อขาย / ค้า / จัดจำหน่ายหลักทรัพย์ที่เป็นหน่วยลงทุน (บลน. / LBDU) | B16: กลุ่ม 3
A17: การจัดการกองทุนรวม / การจัดการกองทุนส่วนบุคคล (บลจ.) | B17: กลุ่ม 3
A18: กิจการการยืมและให้ยืมหลักทรัพย์ | B18: กลุ่ม 3
A19: การให้สินเชื่อเพื่อธุรกิจหลักทรัพย์ | B19: กลุ่ม 3
A20: ที่ปรึกษาการลงทุนด้านหลักทรัพย์ | B20: กลุ่ม 3
A21: ที่ปรึกษาสัญญาซื้อขายล่วงหน้า | B21: กลุ่ม 3
... A25: ผู้ให้บริการระบบเสนอขายโทเคนดิจิทัล | B25: กลุ่ม 3
B28: Business Impact
A29: Group | B29: L | C29: M | D29: H
A30: กลุ่ม 1 | B30: ผู้ประกอบธุรกิจที่มีความเสี่ยงระดับปานกลาง | C30: ผู้ประกอบธุรกิจที่มีความเสี่ยงระดับสูง | D30: ผู้ประกอบธุรกิจที่มีความเสี่ยงระดับสูง
A31: กลุ่ม 2 | B31: ผู้ประกอบธุรกิจที่มีความเสี่ยงระดับต่ำ | C31: ผู้ประกอบธุรกิจที่มีความเสี่ยงระดับปานกลาง | D31: ผู้ประกอบธุรกิจที่มีความเสี่ยงระดับสูง
A32: กลุ่ม 3 | B32: ผู้ประกอบธุรกิจที่มีความเสี่ยงระดับต่ำ | C32: ผู้ประกอบธุรกิจที่มีความเสี่ยงระดับต่ำ | D32: ผู้ประกอบธุรกิจที่มีความเสี่ยงระดับปานกลาง
A39: 1) กำหนด IT secuiry policy เอง | B39: 1) แผนก IT ในองค์กร | C39: 1) เจ้าหน้าที่ Compliance/Risk/Legal ของบริษัท | D39: 1) IT auditors ภายในบริษัท | E39: 1) IT Security/Cybersecurity Unit หรือ Department ในองค์กร | F39: 1) มี โดยบริษัทมีการแต่งตั้ง DPO ปฏิบัติหน้าที่ให้กับบริษัทเอง
A40: 2) นำ IT security policy จากบริษัทแม่หรือบริษัทในกลุ่มมาใช้ (รวมถึงมีการปรับปรุงเนื้อหาบางส่วน) | B40: 2) แผนก IT ของบริษัทแม่หรือบริษัทในกลุ่ม | C40: 2) เจ้าหน้าที่ Compliance/Risk/Legal จากบริษัทแม่หรือบริษัทในกลุ่ม | D40: 2) IT auditors จากบริษัทแม่หรือบริษัทในกลุ่ม | E40: 2) IT Security/Cybersecurity Unit หรือ Department ของบริษัทแม่หรือบริษัทในกลุ่ม | F40: 2) มี โดยบริษัทได้ให้ DPO ของเครือกิจการหรือเครือธุรกิจเดียวกัน ปฏิบัติหน้าที่ให้กับบริษัท
B41: 3) บริการโดยบุคคลภายนอกอื่น ๆ | C41: 3) เจ้าหน้าที่ Compliance/Risk/Legal จากบุคคลภายนอก | D41: 3) IT auditors จากบุคคลภายนอกอื่น ๆ | E41: 3) ใช้บริการจากบุคคลภายนอกอื่น ๆ | F41: 3) ไม่มี DPO
C42: 4) เจ้าหน้าที่ IT Compliance/IT Risk ของบริษัท | D42: 4) IT auditors ร่วมระหว่างภายในบริษัท และบุคคลภายนอก
C43: 5) เจ้าหน้าที่ IT Compliance/IT Risk จากบริษัทแม่หรือบริษัทในกลุ่ม
C44: 6) เจ้าหน้าที่ IT Compliance/IT Risk จากบุคคลภายนอก

Sheet CompanyList
A1: Company Name | C1: Data Validation
A2: บริษัท ตลาดสัญญาซื้อขายล่วงหน้า (ประเทศไทย) จำกัด (มหาชน) | C2: {=_xlfn.UNIQUE(_xlfn._xlws.FILTER(A2:A194,ISNUMBER(SEARCH('1. ข้อมูลบริษัท'!D7,A2:A194))))} -> บริษัท ตลาดสัญญาซื้อขายล่วงหน้า (ประเทศไทย) จำกัด (มหาชน)
A3: บริษัท สำนักหักบัญชี (ประเทศไทย) จำกัด | C3: บริษัท สำนักหักบัญชี (ประเทศไทย) จำกัด
A4: บริษัท หลักทรัพย์ กรุงไทย เอ็กซ์สปริง จำกัด | C4: บริษัท หลักทรัพย์ กรุงไทย เอ็กซ์สปริง จำกัด
A5: บริษัท หลักทรัพย์ กรุงศรี พัฒนสิน จำกัด (มหาชน) | C5: บริษัท หลักทรัพย์ กรุงศรี พัฒนสิน จำกัด (มหาชน)
A6: บริษัท หลักทรัพย์ กสิกรไทย จำกัด (มหาชน) | C6: บริษัท หลักทรัพย์ กสิกรไทย จำกัด (มหาชน)
A7: บริษัท หลักทรัพย์ เกียรตินาคินภัทร จำกัด (มหาชน) | C7: บริษัท หลักทรัพย์ เกียรตินาคินภัทร จำกัด (มหาชน)
A8: บริษัท หลักทรัพย์ เคเคพี ไดม์ จำกัด | C8: บริษัท หลักทรัพย์ เคเคพี ไดม์ จำกัด
A9: บริษัท หลักทรัพย์ เคพีเอ็ม จำกัด | C9: บริษัท หลักทรัพย์ เคพีเอ็ม จำกัด
A10: บริษัท หลักทรัพย์ ซีจีเอส อินเตอร์เนชั่นแนล (ประเทศไทย) จำกัด | C10: บริษัท หลักทรัพย์ ซีจีเอส อินเตอร์เนชั่นแนล (ประเทศไทย) จำกัด
A11: บริษัท หลักทรัพย์ ดาโอ (ประเทศไทย) จำกัด (มหาชน) | C11: บริษัท หลักทรัพย์ ดาโอ (ประเทศไทย) จำกัด (มหาชน)
A12: บริษัท หลักทรัพย์ ไทยพาณิชย์ จูเลียส แบร์ จำกัด | C12: บริษัท หลักทรัพย์ ไทยพาณิชย์ จูเลียส แบร์ จำกัด
A13: บริษัท หลักทรัพย์ บลูเบลล์ จำกัด | C13: บริษัท หลักทรัพย์ บลูเบลล์ จำกัด
A14: บริษัท หลักทรัพย์ ไพน์ เวลท์ โซลูชั่น จำกัด | C14: บริษัท หลักทรัพย์ ไพน์ เวลท์ โซลูชั่น จำกัด
... A194: บริษัท หลักทรัพย์ที่ปรึกษาการลงทุนมีแพลน จำกัด | C194: บริษัท หลักทรัพย์ที่ปรึกษาการลงทุนมีแพลน จำกัด

Sheet ConditionCheck
A1: comp_ID | B1: comp_name_th | C1: condition_3 | D1: condition_4.2
A2: 0100528000127 | B2: ธนาคารซิตี้แบงก์ เอ็น. เอ.
A3: 0100539000280 | B3: ธนาคารเจพีมอร์แกน เชส สาขากรุงเทพฯ
A4: 0100544000390 | B4: ธนาคารฮ่องกงและเซี่ยงไฮ้แบงกิ้งคอร์ปอเรชั่น จำกัด
A5: 0100544007629 | B5: บริษัท เอไอเอ จำกัด
A6: 0100544011383 | B6: ธนาคารแห่งอเมริกา เนชั่นแนล แอสโซซิเอชั่น
A7: 0100546000150 | B7: ธนาคารบีเอ็นพี พารีบาส์ สาขากรุงเทพฯ
A8: 0100546045111 | B8: ธนาคารดอยซ์แบงก์
A9: 0105517009394 | B9: บริษัท หลักทรัพย์เมอร์ริล ลินช์ (ประเทศไทย) จำกัด | C9: ไม่ใช่
A10: 0105517010465 | B10: บริษัท หลักทรัพย์เจพีมอร์แกน (ประเทศไทย) จำกัด | C10: ไม่ใช่
A11: 0105535048240 | B11: บริษัท หลักทรัพย์จัดการกองทุนทิสโก้ จำกัด | C11: ไม่ใช่ | D11: มี
A12: 0105535048398 | B12: บริษัท หลักทรัพย์จัดการกองทุนไทยพาณิชย์ จำกัด | C12: ไม่ใช่ | D12: มี
A13: 0105535048487 | B13: บริษัท หลักทรัพย์จัดการกองทุนกสิกรไทย จำกัด | C13: ไม่ใช่ | D13: มี
A14: 0105535049700 | B14: บริษัท หลักทรัพย์จัดการกองทุนรวมบัวหลวง จำกัด | C14: ไม่ใช่ | D14: มี
A15: 0105535050244 | B15: บริษัท หลักทรัพย์จัดการกองทุน วรรณ จำกัด | C15: ไม่ใช่ | D15: มี
A16: 0105535051836 | B16: บริษัท หลักทรัพย์ซี แอล เอส เอ (ประเทศไทย) จำกัด | C16: ไม่ใช่
A17: 0105536092404 | B17: บริษัท หลักทรัพย์ฟินันซ่า จำกัด | C17: ไม่ใช่
A18: 0105537136511 | B18: บริษัท ศูนย์รับฝากหลักทรัพย์ (ประเทศไทย) จำกัด
A19: 0105538025143 | B19: บริษัท หลักทรัพย์ อินโนเวสท์ เอกซ์ จำกัด | C19: ไม่ใช่
A20: 0105538093173 | B20: บริษัท หลักทรัพย์ยูบีเอส (ประเทศไทย) จำกัด | C20: ไม่ใช่
A21: 0105539117408 | B21: บริษัท หลักทรัพย์จัดการกองทุนอเบอร์ดีน (ประเทศไทย) จำกัด | C21: ไม่ใช่ | D21: มี
A22: 0105539119915 | B22: บริษัท หลักทรัพย์แมคควอรี (ประเทศไทย) จำกัด | C22: ไม่ใช่
A23: 0105539122118 | B23: บริษัท หลักทรัพย์จัดการกองทุนยูโอบี (ประเทศไทย) จำกัด | C23: ไม่ใช่ | D23: มี
A24: 0105539127012 | B24: บริษัท หลักทรัพย์ดีบีเอส วิคเคอร์ส (ประเทศไทย) จำกัด | C24: ไม่ใช่
A25: 0105539136674 | B25: บริษัท หลักทรัพย์จัดการกองทุนกรุงศรี จำกัด | C25: ไม่ใช่ | D25: มี
A26: 0105540043706 | B26: บริษัท หลักทรัพย์จัดการกองทุนเมอร์ชั่น พาร์ทเนอร์ จำกัด | C26: ไม่ใช่ | D26: มี
A27: 0105541054710 | B27: บริษัท หลักทรัพย์ทิสโก้ จำกัด | C27: ไม่ใช่
A28: 0105541067072 | B28: บริษัท หลักทรัพย์หยวนต้า (ประเทศไทย) จำกัด | C28: ไม่ใช่
A29: 0105541071665 | B29: บริษัท หลักทรัพย์เครดิต สวิส (ประเทศไทย) จำกัด | C29: ไม่ใช่
A30: 0105542027091 | B30: บริษัท หลักทรัพย์ทรีนีตี้ จำกัด | C30: ไม่ใช่
A31: 0105542081800 | B31: บริษัท หลักทรัพย์ ซีจีเอส อินเตอร์เนชั่นแนล (ประเทศไทย) จำกัด | C31: ไม่ใช่
A32: 0105543032365 | B32: บริษัท หลักทรัพย์ซิตี้คอร์ป (ประเทศไทย) จำกัด | C32: ไม่ใช่
A33: 0105543050517 | B33: บริษัท หลักทรัพย์ กรุงไทย เอ็กซ์สปริง จำกัด | C33: ไม่ใช่
A34: 0105545078214 | B34: บริษัท หลักทรัพย์โกลเบล็ก จำกัด | C34: ไม่ใช่
A35: 0105545127541 | B35: บริษัท หลักทรัพย์ที่ปรึกษาการลงทุนต้นธารคอร์ปอเรชั่น จำกัด
A36: 0105547010471 | B36: บริษัท หลักทรัพย์จัดการกองทุนเกียรตินาคินภัทร จำกัด | C36: ไม่ใช่ | D36: มี
A37: 0105547011826 | B37: บริษัท หลักทรัพย์จัดการกองทุนแอสเซท พลัส จำกัด | C37: ไม่ใช่ | D37: มี
A38: 0105547107432 | B38: บริษัท สำนักหักบัญชี (ประเทศไทย) จำกัด
A39: 0105547164509 | B39: บริษัท หลักทรัพย์จัดการกองทุนพรินซิเพิล จำกัด | C39: ไม่ใช่ | D39: มี
A40: 0105549031301 | B40: บริษัท หลักทรัพย์ที่ปรึกษาการลงทุนไคลเอนท์-เซนเตอร์ ครอส-บอร์เดอร์ จำกัด
...
